BEGIN:VCALENDAR
VERSION:2.0
PRODID:-//ChamberMaster//Event Calendar 2.0//EN
METHOD:PUBLISH
X-PUBLISHED-TTL:P3D
REFRESH-INTERVAL:P3D
CALSCALE:GREGORIAN
BEGIN:VEVENT
DTSTART;VALUE=DATE:20250512
DTEND;VALUE=DATE:20250513
TRANSP:TRANSPARENT
X-MICROSOFT-CDO-ALLDAYEVENT:TRUE
SUMMARY:17th Annual Golf Outing
DESCRIPTION:Annual Golf Outing.\n\nJoin us for our 17th Annual Golf Outing at Rattlesnake Ridge Golf Course! Grab a quick bite before hitting the links on this beautiful course. When you're done you will be able to enjoy a fabulous lunch followed by an Awards Ceremony. Be sure to play the games along the way and participate in the raffle as well.
X-ALT-DESC;FMTTYPE=text/html:Annual Golf Outing.<br />\nJoin us for our 17th Annual Golf Outing at Rattlesnake Ridge Golf Course! Grab a quick bite before hitting the links on this beautiful course. When you&#39\;re done you will be able to enjoy a fabulous lunch followed by an Awards Ceremony. Be sure to play the games along the way and participate in the raffle as well.
LOCATION:Rattlesnake Ridge Golf Club 1 Rattlesnake Dr. Sunbury
UID:e.295.6986
SEQUENCE:3
DTSTAMP:20260420T033549Z
URL:https://business.sunburybigwalnutchamber.com/events/details/17th-annual-golf-outing-6986
END:VEVENT

END:VCALENDAR
