BEGIN:VCALENDAR
VERSION:2.0
PRODID:-//ChamberMaster//Event Calendar 2.0//EN
METHOD:PUBLISH
X-PUBLISHED-TTL:P3D
REFRESH-INTERVAL:P3D
CALSCALE:GREGORIAN
BEGIN:VEVENT
DTSTART:20170704T110000Z
DTEND:20170705T020000Z
X-MICROSOFT-CDO-ALLDAYEVENT:FALSE
SUMMARY:2017 Independence Day Celebration!
DESCRIPTION:Join the Village of Sunbury\, along with the Sunbury/Big Walnut Area Chamber of Commerce\, Big Walnut Civic Association and the Big Walnut Local Schools\, for the 2017 July 4th Celebration!\n\n\n\nAll events take place on Tuesday\, July 4th.  Lots of fun for the entire family!\n\n\n\nCheck out these great events:\n\n\n\n* 10 am:  Independence Day Parade sponsored by the Big Walnut Civic Association! (click here for registration form to print) IMPORTANT: mail completed form to BIG WALNUT CIVIC ASSOCIATION\, 123 St. Rt. 3\, Sunbury\, OH  43074\n\n\n\n* 7 am - 3 pm: Antiques\, Arts & Crafts Fair on the Square sponsored by the Sunbury/Big Walnut Area Chamber of Commerce! (register online or click here for registration form to print)\n\n***PLEASE NOTE - AS A PROFESSIONAL COURTESY\, AT THIS TIME WE WILL NOT BE ABLE TO ACCEPT ANY ADDITIONAL LULAROE VENDORS\n\n\n\n* 9 am - all day:  18th Annual Corey Lehman Memorial Volleyball Tournament at BWHS (click here for entry form & waiver to print)\n\n\n\n* 11 am - 3 pm:  Kids Zone on the Square sponsored by the Sunbury/Big Walnut Area Chamber of Commerce!\n\n \n\n* Right after the Parade:  Hot Dog Eating Contest on the Square sponsored by Eagle Automotive & Indco Electrical Contractors! (register online or click here for registration & liability form to print)     Participants may also register the day of the event on a first come\, first serve basis.  **WINNER WILL RECEIVE A CASH PRIZE - $200!!\n\n\n\n* THE FUN CONTINUES AT BIG WALNUT HIGH SCHOOL FROM 6PM - 10PM!\n\n\n\n* 8 pm:  2nd Annual Outhouse Race sponsored by Wells Septic! (click here for more details\; click here for registration form to print)\n\n \n\n * At Dusk: Firework Extravaganza at BWHS sponsored by the Big Walnut Civic Association!  Don't miss it!\n\n\n\n** Plus delicious food provided by vendors!\n\n\n\n\n\nPLEASE NOTE:\n\n\n\n** DUE TO RECENT STATE REGULATIONS\, ALL SIDEWALKS\, BOTH EXTERIOR & INTERIOR ON THE SQUARE\, MUST BE HANDICAP ACCESSIBLE THIS YEAR.  ALL ANTIQUE & CRAFTS FAIR VENDORS WILL BE PLACED ON THE INSIDE OF THE SIDEWALKS ON SUNBURY SQUARE. ONLY LAWN SPACES WILL BE AVAILABLE THIS YEAR.  \n\n\n\nPlease direct any questions on this matter to the VILLAGE OF SUNBURY - 740-965-2684.
X-ALT-DESC;FMTTYPE=text/html:<em><strong>Join</strong></em><em><strong>&nbsp\;<span background-color:="" font-size:="" style="color: rgb(51\, 51\, 51)\; font-family: sans-serif\, Arial\, Verdana\, " trebuchet="">the Village of Sunbury\, along with the Sunbury/Big Walnut Area Chamber of Commerce\, Big Walnut Civic Association and the Big Walnut Local Schools\, </span>for the 2017 July 4th Celebration!<br />\n<br />\nAll events take place on Tuesday\, July 4th. &nbsp\;Lots of fun for the entire family!</strong></em><br />\n<br />\n<b><em>Check out these great events:</em><br />\n<br />\n<em><span style="font-size:16px\;"><span style="color: rgb(255\, 0\, 0)\;">*</span> </span><span style="color:#FF0000\;"><span style="font-size:16px\;"><u>10 am: &nbsp\;Independence Day Parade</u> sponsored by the Big Walnut Civic Association!</span> (<a href="https://chambermaster.blob.core.windows.net/userfiles/UserFiles/chambers/295/File/UPDATEDPARADEREGISTRATIONLIABILITY.pdf">click here</a> for registration form to print) </span></em></b><em style="color: rgb(51\, 51\, 51)\; font-family: sans-serif\, Arial\, Verdana\, "><strong>IMPORTANT</strong></em><em style="color: rgb(51\, 51\, 51)\; font-family: sans-serif\, Arial\, Verdana\, "><strong>: mail completed form to BIG WALNUT CIVIC ASSOCIATION\, 123 St. Rt. 3\, Sunbury\, OH &nbsp\;43074</strong></em><br />\n<br />\n<em background-color:="" font-size:="" style="color: rgb(51\, 51\, 51)\; font-family: sans-serif\, Arial\, Verdana\, " trebuchet=""><strong><span style="font-size:16px\;"><span style="color: rgb(0\, 0\, 255)\;">*</span> </span><span style="color:#0000FF\;"><span style="font-size:16px\;"><u>7 am - 3 pm: Antiques\, Arts &amp\; Crafts Fair on the Square</u> sponsored by the Sunbury/Big Walnut Area Chamber of Commerce! </span>(register online or <a href="https://chambermaster.blob.core.windows.net/userfiles/UserFiles/chambers/295/File/July4thVendorContract2017.pdf">click here</a> for registration form to print)</span><br />\n<span style="color:#000000\;">***PLEASE NOTE - AS A PROFESSIONAL COURTESY\, AT THIS TIME WE WILL NOT BE ABLE TO ACCEPT ANY ADDITIONAL </span><span style="color:#FF0000\;">LULAROE</span><span style="color:#000000\;"> VENDORS</span></strong></em><br />\n<br />\n<span font-size:="" style="color: rgb(51\, 51\, 51)\; font-family: sans-serif\, Arial\, Verdana\, " trebuchet=""><em background-color:="" font-size:="" trebuchet=""><strong><span style="color: rgb(0\, 0\, 255)\;">* <u>9 am - all day:&nbsp\;</u></span><u>&nbsp\;<span style="color: rgb(0\, 0\, 255)\;">18th</span><span style="color: rgb(0\, 0\, 255)\;">&nbsp\;Annual Corey Lehman Memorial Volleyball Tournament at&nbsp\;</span></u></strong></em></span><em background-color:="" font-size:="" style="color: rgb(51\, 51\, 51)\; font-family: sans-serif\, Arial\, Verdana\, " trebuchet=""><strong><span style="font-size: 16px\;"><span style="color: rgb(0\, 0\, 255)\;"><u>BWHS</u>&nbsp\;</span></span></strong></em><strong font-size:="" style="color: rgb(51\, 51\, 51)\; font-family: sans-serif\, Arial\, Verdana\, " trebuchet=""><em><span style="color: rgb(0\, 0\, 255)\;">(<a href="https://chambermaster.blob.core.windows.net/userfiles/UserFiles/chambers/295/File/18thCLMVT2017EntryForm.pdf" style="color: rgb(7\, 130\, 193)\;">click here for entry form</a>&nbsp\;&amp\;&nbsp\;<a href="https://chambermaster.blob.core.windows.net/userfiles/UserFiles/chambers/295/File/18thCLMVT2017Waiver.pdf" style="color: rgb(7\, 130\, 193)\;">waiver</a>&nbsp\;to print)</span></em></strong><br />\n<br />\n<em background-color:="" font-size:="" style="color: rgb(51\, 51\, 51)\; font-family: sans-serif\, Arial\, Verdana\, " trebuchet=""><strong><span style="font-size:16px\;"><span style="color: rgb(255\, 0\, 0)\;">* </span><span style="color: rgb(255\, 0\, 0)\;"><u>11 am - 3 pm: &nbsp\;Kids Zone on the Square</u> sponsored by the Sunbury/Big Walnut Area Chamber of Commerce!</span></span><br />\n&nbsp\;</strong></em><br />\n<strong background-color:="" font-size:="" style="color: rgb(51\, 51\, 51)\; font-family: sans-serif\, Arial\, Verdana\, " trebuchet=""><em><span style="color:#0000FF\;"><span style="font-size:16px\;"><u>* Right after the Parade: &nbsp\;Hot Dog Eating Contest on the Square</u> sponsored by Eagle Automotive &amp\; Indco&nbsp\;Electrical Contractors!</span> (register online or <a href="https://chambermaster.blob.core.windows.net/userfiles/UserFiles/chambers/295/File/HotDogEatingContestRegistrationFormandLiabilityWaiver1.pdf">click here</a> for registration &amp\; liability form to print) </span></em></strong>&nbsp\;&nbsp\;&nbsp\; <strong background-color:="" font-size:="" style="color: rgb(51\, 51\, 51)\; font-family: sans-serif\, Arial\, Verdana\, " trebuchet=""><em><span style="color:#0000FF\;">Participants may also register the day of the event on a first come\, first serve basis. &nbsp\;</span><span style="color:#008000\;">**WINNER WILL RECEIVE A CASH PRIZE - $200!!</span></em></strong><br />\n<br />\n<strong>* THE FUN CONTINUES AT BIG WALNUT HIGH SCHOOL FROM 6PM - 10PM!</strong><br />\n<br />\n<em><strong><span style="font-size:16px\;"><span style="color: rgb(255\, 0\, 0)\;">*</span>&nbsp\;</span><span style="color:#FF0000\;"><span style="font-size:16px\;"><u>8 pm: &nbsp\;2nd Annual Outhouse Race</u> sponsored by Wells Septic!</span> (<a href="https://chambermaster.blob.core.windows.net/userfiles/UserFiles/chambers/295/File/OUTHOUSERACEFLYER.pdf">click here</a> for more details\; <a href="https://chambermaster.blob.core.windows.net/userfiles/UserFiles/chambers/295/File/outhouseraceapplication.pdf">click here</a> for registration form to print)</span><br />\n&nbsp\;</strong></em><br />\n<em style="background-color: rgb(255\, 255\, 255)\;"><strong><span style="color:#FF0000\;">&#8203\;<span style="font-size:16px\;">* </span></span></strong></em><em background-color:="" font-size:="" style="color: rgb(51\, 51\, 51)\; font-family: sans-serif\, Arial\, Verdana\, " trebuchet=""><strong><span style="font-size:16px\;"><span style="color: rgb(255\, 0\, 0)\;"><u>At Dusk: Firework Extravaganza at&nbsp\;BWHS</u>&nbsp\;sponsored by the Big Walnut Civic Association! &nbsp\;Don&#39\;t miss it!</span><br />\n<br />\n<span style="color: rgb(0\, 0\, 255)\;">** Plus delicious food provided by vendors!</span></span><br />\n<br />\n<br />\nPLEASE NOTE:<br />\n<br />\n** DUE TO RECENT STATE REGULATIONS\, ALL SIDEWALKS\, BOTH EXTERIOR &amp\; INTERIOR ON THE SQUARE\, MUST BE HANDICAP ACCESSIBLE THIS YEAR. &nbsp\;ALL ANTIQUE &amp\; CRAFTS FAIR VENDORS WILL BE PLACED ON</strong></em><strong><em>&nbsp\;THE INSIDE OF THE SIDEWALKS ON SUNBURY SQUARE. ONLY LAWN SPACES WILL BE AVAILABLE THIS YEAR. &nbsp\;<br />\n<br />\n<span style="color:#FF8C00\;"><u>Please direct any questions on this matter to the VILLAGE OF SUNBURY - 740-965-2684.&nbsp\;</u></span></em></strong><span style="color:#FF8C00\;"><u>&nbsp\;</u></span>
LOCATION:All activities will take place on the scenic Sunbury Square or at Big Walnut High School.
UID:e.295.3147
SEQUENCE:3
DTSTAMP:20260420T090043Z
URL:https://business.sunburybigwalnutchamber.com/events/details/2017-independence-day-celebration-07-04-2017-3147
END:VEVENT

END:VCALENDAR
