BEGIN:VCALENDAR
VERSION:2.0
PRODID:-//ChamberMaster//Event Calendar 2.0//EN
METHOD:PUBLISH
X-PUBLISHED-TTL:P3D
REFRESH-INTERVAL:P3D
CALSCALE:GREGORIAN
BEGIN:VEVENT
DTSTART;VALUE=DATE:20221107
DTEND;VALUE=DATE:20221204
TRANSP:TRANSPARENT
X-MICROSOFT-CDO-ALLDAYEVENT:TRUE
SUMMARY:2022 Sock Drive - Table Rock Construction and Sunbury/Big Walnut Area Chamber of Commerce
DESCRIPTION:2022\n\nPLEASE DONATE- SOCK DRIVE\n\nNOVEMBER 7   DECEMBER 3\n\n\n\nSock Drive 2022 - Table Rock Construction and Sunbury/Big Walnut Area Chamber of Commerce will be collecting new packaged socks (any size) until Saturday\, December 3rd.  You can drop them off at the below locations.\n\n\n\nTable Rock Construction - M-F\, 9am - 5pm\n\n28 E. Cherry Street\n\nSunbury\, OH  43074\n\n740-965-8230\n\n\n\nSunbury/Big Walnut Area Chamber of Commerce - 9:00am - 3:00pm\, M-F\n\n39 E. Granville Street\n\nSunbury\, OH  43074\n\n740-965-2860\n\n\n\nPlease donate a pair or two of socks this year to help others warm their feet!\n\nCold weather is shortly upon us so lets help those who can't fix the holes in the socks they have.\n\nWe will be accepting donations at Table Rock Construction or the Sunbury Chamber up to the night of Christmas on the Square 12/3/22.\n\nPlease bring new socks .. LOL
X-ALT-DESC;FMTTYPE=text/html:&nbsp\;&nbsp\;&nbsp\;&nbsp\;&nbsp\;&nbsp\;&nbsp\;&nbsp\;&nbsp\;&nbsp\;&nbsp\;&nbsp\;&nbsp\;&nbsp\;&nbsp\;&nbsp\;&nbsp\;&nbsp\;&nbsp\;&nbsp\;&nbsp\;&nbsp\;&nbsp\;&nbsp\;&nbsp\;&nbsp\;&nbsp\;&nbsp\;&nbsp\;&nbsp\;&nbsp\;&nbsp\;<br />\n<span style="font-size:26px\;"><strong><span style="color:red\;">2022</span></strong><br />\n<strong><span style="color:red\;">PLEASE DONATE- SOCK DRIVE</span></strong><br />\n<strong><span style="color:red\;">NOVEMBER 7 &ndash\; DECEMBER 3</span></strong></span><br />\n<br />\n<span style="font-size:16px\;"><strong><span style="color: rgb(51\, 51\, 51)\; font-family: sans-serif\, Arial\, Verdana\, &quot\;Trebuchet MS&quot\;\; background-color: rgb(255\, 255\, 255)\;">Sock Drive 2022 - Table Rock Construction and Sunbury/Big Walnut Area Chamber of Commerce will be collecting new packaged socks (any size) until Saturday\, December 3rd.&nbsp\; You can drop them off at the below locations.</span><br style="color: rgb(51\, 51\, 51)\; font-family: sans-serif\, Arial\, Verdana\, &quot\;Trebuchet MS&quot\;\; font-size: 13px\;" />\n<br style="color: rgb(51\, 51\, 51)\; font-family: sans-serif\, Arial\, Verdana\, &quot\;Trebuchet MS&quot\;\; font-size: 13px\;" />\n<span style="color: rgb(51\, 51\, 51)\; font-family: sans-serif\, Arial\, Verdana\, &quot\;Trebuchet MS&quot\;\; background-color: rgb(255\, 255\, 255)\;">Table Rock Construction - M-F\, 9am - 5pm</span><br style="color: rgb(51\, 51\, 51)\; font-family: sans-serif\, Arial\, Verdana\, &quot\;Trebuchet MS&quot\;\; font-size: 13px\;" />\n<span style="color: rgb(51\, 51\, 51)\; font-family: sans-serif\, Arial\, Verdana\, &quot\;Trebuchet MS&quot\;\; background-color: rgb(255\, 255\, 255)\;">28 E. Cherry Street</span><br style="color: rgb(51\, 51\, 51)\; font-family: sans-serif\, Arial\, Verdana\, &quot\;Trebuchet MS&quot\;\; font-size: 13px\;" />\n<span style="color: rgb(51\, 51\, 51)\; font-family: sans-serif\, Arial\, Verdana\, &quot\;Trebuchet MS&quot\;\; background-color: rgb(255\, 255\, 255)\;">Sunbury\, OH&nbsp\; 43074<br />\n740-965-8230</span><br style="color: rgb(51\, 51\, 51)\; font-family: sans-serif\, Arial\, Verdana\, &quot\;Trebuchet MS&quot\;\; font-size: 13px\;" />\n<br style="color: rgb(51\, 51\, 51)\; font-family: sans-serif\, Arial\, Verdana\, &quot\;Trebuchet MS&quot\;\; font-size: 13px\;" />\n<span style="color: rgb(51\, 51\, 51)\; font-family: sans-serif\, Arial\, Verdana\, &quot\;Trebuchet MS&quot\;\; background-color: rgb(255\, 255\, 255)\;">Sunbury/Big Walnut Area Chamber of Commerce - 9:00am - 3:00pm\, M-F</span><br style="color: rgb(51\, 51\, 51)\; font-family: sans-serif\, Arial\, Verdana\, &quot\;Trebuchet MS&quot\;\; font-size: 13px\;" />\n<span style="color: rgb(51\, 51\, 51)\; font-family: sans-serif\, Arial\, Verdana\, &quot\;Trebuchet MS&quot\;\; background-color: rgb(255\, 255\, 255)\;">39 E. Granville Street</span><br style="color: rgb(51\, 51\, 51)\; font-family: sans-serif\, Arial\, Verdana\, &quot\;Trebuchet MS&quot\;\; font-size: 13px\;" />\n<span style="color: rgb(51\, 51\, 51)\; font-family: sans-serif\, Arial\, Verdana\, &quot\;Trebuchet MS&quot\;\; background-color: rgb(255\, 255\, 255)\;">Sunbury\, OH&nbsp\; 43074<br />\n740-965-2860</span></strong></span><br />\n<br />\n<span style="font-size:20px\;"><span style="font-family:arial black\,sans-serif\;">Please donate a pair or two of socks this year to help others warm their feet!</span><br />\n<span style="font-family:arial black\,sans-serif\;">Cold weather is shortly upon us so lets help those who can&rsquo\;t fix the holes in the socks they have.</span><br />\n<span style="font-family:arial black\,sans-serif\;">We will be accepting donations at Table Rock Construction or the Sunbury Chamber up to the night of Christmas on the Square 12/3/22.</span><br />\n<span style="font-family:arial black\,sans-serif\;">Please bring new socks&hellip\;.. LOL</span></span><br />\n<br />\n<br />\n&nbsp\;
LOCATION:Drop off Locations: Table Rock Construction\, 28 E. Cherry Street\, Sunbury\, OH 43074 Sunbury Chamber of Commerce - 9:00am - 3:00pm\, M-F\, 39 E. Granville Street\, Sunbury\, OH 43074
UID:e.295.6685
SEQUENCE:3
DTSTAMP:20260420T192040Z
URL:https://business.sunburybigwalnutchamber.com/events/details/2022-sock-drive-table-rock-construction-and-sunbury-big-walnut-area-chamber-of-commerce-6685
END:VEVENT

END:VCALENDAR
