BEGIN:VCALENDAR
VERSION:2.0
PRODID:-//ChamberMaster//Event Calendar 2.0//EN
METHOD:PUBLISH
X-PUBLISHED-TTL:P3D
REFRESH-INTERVAL:P3D
CALSCALE:GREGORIAN
BEGIN:VEVENT
DTSTART:20250721T213000Z
DTEND:20250726T003000Z
X-MICROSOFT-CDO-ALLDAYEVENT:FALSE
SUMMARY:SUMC VBS - True North
DESCRIPTION:Join us for Vacation Bible School at Sunbury UMC!\n\nIncluded:\n\n	Registrant and family dinner every night\n	Hands on science experiments\n	Unforgettable Bible songs\n	Inspiring service project\n	Team Building Games\n	Tasty treats
X-ALT-DESC;FMTTYPE=text/html:<strong>Join us for Vacation Bible School at Sunbury UMC!<br />\nIncluded:</strong>\n<ul>\n	<li>Registrant and family dinner every night</li>\n	<li>Hands on science experiments</li>\n	<li>Unforgettable Bible songs</li>\n	<li>Inspiring service project</li>\n	<li>Team Building Games</li>\n	<li>Tasty treats</li>\n</ul>\n<br />\n&nbsp\;
LOCATION:
UID:e.295.7069
SEQUENCE:3
DTSTAMP:20260420T071224Z
URL:https://business.sunburybigwalnutchamber.com/events/details/2025-vbs-7069
END:VEVENT

END:VCALENDAR
