BEGIN:VCALENDAR
VERSION:2.0
PRODID:-//ChamberMaster//Event Calendar 2.0//EN
METHOD:PUBLISH
X-PUBLISHED-TTL:P3D
REFRESH-INTERVAL:P3D
CALSCALE:GREGORIAN
BEGIN:VEVENT
DTSTART:20250727T170000Z
DTEND:20250727T210000Z
X-MICROSOFT-CDO-ALLDAYEVENT:FALSE
SUMMARY:3rd Annual Stratford Festival and Ice Cream Social
DESCRIPTION:Come join the fun!  The Delaware County Historical Society presents the 3rd Annual Stratford Festival and Ice Cream Social on Sunday\, July 27 1:00 p.m. 5:00 p.m. at the Barn at Stratford\, 2690 Stratford Road\, Delaware\, O.   FREE TO THE PUBLIC\n\nEveryone invited   Join us for fun and ice cream\n\n \n\nThe fun includes:\n\n	Ice Cream from Riverside Dairy\n	Food Truck\n	Magician Nate the Great\n	Tours of Historic Stratford including homes built in the 1850's\n	Kids' zone with historic games\n	Weaving demonstrations\n	Historic items for sale\n	Tours of Meeker Museum and Barn at Stratford\n	Reenactors\n	Square Dance Demonstration\n	Music by Presbyterian Pickers\n	Native American artifact display\n	Caricature Artist\n	Replica archaeological dig for kids 4-12 (Kids can take home what they find)
X-ALT-DESC;FMTTYPE=text/html:Come join the fun!&nbsp\; The Delaware County Historical Society presents the 3<sup>rd</sup> Annual Stratford Festival and Ice Cream Social on Sunday\, July 27 1:00 p.m. 5:00 p.m. at the Barn at Stratford\, 2690 Stratford Road\, Delaware\, O. &ndash\; FREE TO THE PUBLIC<br />\nEveryone invited &ndash\; Join us for fun and ice cream<br />\n&nbsp\;<br />\nThe fun includes:\n<ul>\n	<li>Ice Cream from Riverside Dairy</li>\n	<li>Food Truck</li>\n	<li>Magician Nate the Great</li>\n	<li>Tours of Historic Stratford including homes built in the 1850&rsquo\;s</li>\n	<li>Kids&rsquo\; zone with historic games</li>\n	<li>Weaving demonstrations</li>\n	<li>Historic items for sale</li>\n	<li>Tours of Meeker Museum and Barn at Stratford</li>\n	<li>Reenactors</li>\n	<li>Square Dance Demonstration</li>\n	<li>Music by Presbyterian Pickers</li>\n	<li>Native American artifact display</li>\n	<li>Caricature Artist</li>\n	<li>Replica archaeological dig for kids 4-12 (Kids can take home what they find)</li>\n</ul>\n
LOCATION:The Barn at Stratford 2690 Stratford Road Delaware\, Ohio. 43015
UID:e.295.7086
SEQUENCE:3
DTSTAMP:20260420T071626Z
URL:https://business.sunburybigwalnutchamber.com/events/details/3rd-annual-stratford-festival-and-ice-cream-social-7086
END:VEVENT

END:VCALENDAR
