BEGIN:VCALENDAR
VERSION:2.0
PRODID:-//ChamberMaster//Event Calendar 2.0//EN
METHOD:PUBLISH
X-PUBLISHED-TTL:P3D
REFRESH-INTERVAL:P3D
CALSCALE:GREGORIAN
BEGIN:VEVENT
DTSTART:20240718T203000Z
DTEND:20240718T220000Z
X-MICROSOFT-CDO-ALLDAYEVENT:FALSE
SUMMARY:After-Hours
DESCRIPTION:Join the Sunbury Big Walnut\, and Delaware Chambers for Consolidated Cooperative's After-Hours event. Rumor has it that Root Beer floats will be there for our enjoyment.
X-ALT-DESC;FMTTYPE=text/html:Join the Sunbury Big Walnut\, and Delaware Chambers for Consolidated Cooperative&#39\;s After-Hours event. Rumor has it that Root Beer floats will be there for our enjoyment.
LOCATION:Consolidated Cooperative 4993 St Rt 521 Delaware 43015
UID:e.295.6774
SEQUENCE:3
DTSTAMP:20260423T084843Z
URL:https://business.sunburybigwalnutchamber.com/events/details/after-hours-6774
END:VEVENT

END:VCALENDAR
