BEGIN:VCALENDAR
VERSION:2.0
PRODID:-//ChamberMaster//Event Calendar 2.0//EN
METHOD:PUBLISH
X-PUBLISHED-TTL:P3D
REFRESH-INTERVAL:P3D
CALSCALE:GREGORIAN
BEGIN:VEVENT
DTSTART:20240326T220000Z
DTEND:20240326T233000Z
X-MICROSOFT-CDO-ALLDAYEVENT:FALSE
SUMMARY:After-Hours
DESCRIPTION:The chamber is excited to share that Athletico is next in line for an "out of the box" after-hours event. There will be a tour of the facility but also this...\n\nJoin our "Learn How to Stretch" class for a rejuvenating experience!  In this class\, you'll discover effective techniques to improve flexibility\, release tension\, and promote overall well-being.  Our Physical Therapists will guide you through a series of dynamic and static stretches.  Whether you're a beginner or looking to enhance your stretching routine\, this class is designed to cater to all levels.  Get ready to embrace the benefits of a more flexible you!
X-ALT-DESC;FMTTYPE=text/html:<span style="background-color: rgb(255\, 255\, 255)\;"><font face="Aptos\, Aptos_EmbeddedFont\, Aptos_MSFontService\, Calibri\, Helvetica\, sans-serif"><span style="font-size: 16px\;">The chamber is excited to share that Athletico is next in line for an &quot\;out of the box&quot\; after-hours event. There will be a tour of the facility but also this...<br />\nJoin our &quot\;Learn How to Stretch&quot\; class for a rejuvenating experience!&nbsp\; In this class\, you&#39\;ll discover effective techniques to improve flexibility\, release tension\, and promote overall well-being.&nbsp\; Our Physical Therapists will guide you through a series of dynamic and static stretches.&nbsp\; Whether you&#39\;re a beginner or looking to enhance your stretching routine\, this class is designed to cater to all levels.&nbsp\; Get ready to embrace the benefits of a more flexible you!</span></font></span>
LOCATION:Athletico 121 N Miller Dr Sunbury
UID:e.295.6791
SEQUENCE:3
DTSTAMP:20260419T154202Z
URL:https://business.sunburybigwalnutchamber.com/events/details/after-hours-6791
END:VEVENT

END:VCALENDAR
