BEGIN:VCALENDAR
VERSION:2.0
PRODID:-//ChamberMaster//Event Calendar 2.0//EN
METHOD:PUBLISH
X-PUBLISHED-TTL:P3D
REFRESH-INTERVAL:P3D
CALSCALE:GREGORIAN
BEGIN:VEVENT
DTSTART:20250124T210000Z
DTEND:20250124T230000Z
X-MICROSOFT-CDO-ALLDAYEVENT:FALSE
SUMMARY:After Hours
DESCRIPTION:Happy Hour at Northstar Flats\n\n21+\n\nJoin the Chamber as one of our newer members hosts Happy Hour for their residents\, and members of the Sunbury Big Walnut Chamber of Commerce.
X-ALT-DESC;FMTTYPE=text/html:Happy Hour at Northstar Flats<br />\n21+<br />\nJoin the Chamber as one of our newer members hosts Happy Hour for their residents\, and members of the Sunbury Big Walnut Chamber of Commerce.
LOCATION:NorthStar Flats Club House 865 Northstar Flats Dr. Sunbury
UID:e.295.6982
SEQUENCE:3
DTSTAMP:20260419T203419Z
URL:https://business.sunburybigwalnutchamber.com/events/details/after-hours-6982
END:VEVENT

END:VCALENDAR
