BEGIN:VCALENDAR
VERSION:2.0
PRODID:-//ChamberMaster//Event Calendar 2.0//EN
METHOD:PUBLISH
X-PUBLISHED-TTL:P3D
REFRESH-INTERVAL:P3D
CALSCALE:GREGORIAN
BEGIN:VEVENT
DTSTART:20230808T213000Z
DTEND:20230808T233000Z
X-MICROSOFT-CDO-ALLDAYEVENT:FALSE
SUMMARY:After-hours networking
DESCRIPTION:Join the chamber for a networking night with a twist. Member Amy Bauman\, of Your Development Resource\, will cover in-person and social networking and then we will have an opportunity to put into use what she teaches us.
X-ALT-DESC;FMTTYPE=text/html:Join the chamber for a networking night with a twist. Member Amy Bauman\, of Your Development Resource\, will cover in-person and social networking and then we will have an opportunity to put into use what she teaches us.
LOCATION:Sunbury Big Walnut Chamber of Commerce 39 E Granville St Sunbury
UID:e.295.6739
SEQUENCE:3
DTSTAMP:20260420T035530Z
URL:https://business.sunburybigwalnutchamber.com/events/details/after-hours-networking-6739
END:VEVENT

END:VCALENDAR
