BEGIN:VCALENDAR
VERSION:2.0
PRODID:-//ChamberMaster//Event Calendar 2.0//EN
METHOD:PUBLISH
X-PUBLISHED-TTL:P3D
REFRESH-INTERVAL:P3D
CALSCALE:GREGORIAN
BEGIN:VEVENT
DTSTART:20230914T210000Z
DTEND:20230914T223000Z
X-MICROSOFT-CDO-ALLDAYEVENT:FALSE
SUMMARY:After-Hours Networking
DESCRIPTION:Join the Chamber and Feicht & Co for an after-hours networking event\, and an opportunity to get a tour of their facility. Networking is a great way to make new connections that could potentially help grow your business. What better way to do so than to see the inner workings of one of our businesses in the community. Take the tour\, have a drink\, and make a new acquaintance or two.
X-ALT-DESC;FMTTYPE=text/html:Join the Chamber and Feicht &amp\; Co for an after-hours networking event\, and an opportunity to get a tour of their facility. Networking is a great way to make new connections that could potentially help grow your business. What better way to do so than to see the inner workings of one of our businesses in the community. Take the tour\, have a drink\, and make a new acquaintance or two.
LOCATION:Feicht & Co. 2952 South State Route 605 Galena
UID:e.295.6741
SEQUENCE:3
DTSTAMP:20260420T015923Z
URL:https://business.sunburybigwalnutchamber.com/events/details/after-hours-networking-6741
END:VEVENT

END:VCALENDAR
