BEGIN:VCALENDAR
VERSION:2.0
PRODID:-//ChamberMaster//Event Calendar 2.0//EN
METHOD:PUBLISH
X-PUBLISHED-TTL:P3D
REFRESH-INTERVAL:P3D
CALSCALE:GREGORIAN
BEGIN:VEVENT
DTSTART:20231114T220000Z
DTEND:20231115T000000Z
X-MICROSOFT-CDO-ALLDAYEVENT:FALSE
SUMMARY:After Hours Networking
DESCRIPTION:After-Hours Networking with Sunbury Performing Arts\n\nCome join the Sunbury Big Walnut Chamber and Sunbury Performing Arts for an after-hours networking event like none other. There will be plenty of time for networking\, but also learn more about SPA and what they intend to bring to our community. They will even have some performers to entertain us so come early!
X-ALT-DESC;FMTTYPE=text/html:After-Hours Networking with Sunbury Performing Arts<br />\nCome join the Sunbury Big Walnut Chamber and Sunbury Performing Arts for an after-hours networking event like none other. There will be plenty of time for networking\, but also learn more about SPA and what they intend to bring to our community. They will even have some performers to entertain us so come early!
LOCATION:Sunbury Big Walnut Chamber of Commerce 39 E Granville Sunbury
UID:e.295.6755
SEQUENCE:3
DTSTAMP:20260419T222944Z
URL:https://business.sunburybigwalnutchamber.com/events/details/after-hours-networking-6755
END:VEVENT

END:VCALENDAR
