BEGIN:VCALENDAR
VERSION:2.0
PRODID:-//ChamberMaster//Event Calendar 2.0//EN
METHOD:PUBLISH
X-PUBLISHED-TTL:P3D
REFRESH-INTERVAL:P3D
CALSCALE:GREGORIAN
BEGIN:VEVENT
DTSTART:20231212T223000Z
DTEND:20231213T000000Z
X-MICROSOFT-CDO-ALLDAYEVENT:FALSE
SUMMARY:After-Hours Networking
DESCRIPTION:After-Hours with Lesley Doan of Vivid Coaching\n\nJoin the chamber and Lesley as she shares tips from the Communication Code and offers opportunity to network with others in the business community.
X-ALT-DESC;FMTTYPE=text/html:After-Hours with Lesley Doan of Vivid Coaching<br />\nJoin the chamber and Lesley as she shares tips from the Communication Code and offers opportunity to network with others in the business community.
LOCATION:Sunbury Big Walnut Chamber of Commerce 39 E Granville Sunbury
UID:e.295.6761
SEQUENCE:3
DTSTAMP:20260423T234709Z
URL:https://business.sunburybigwalnutchamber.com/events/details/after-hours-networking-6761
END:VEVENT

END:VCALENDAR
