BEGIN:VCALENDAR
VERSION:2.0
PRODID:-//ChamberMaster//Event Calendar 2.0//EN
METHOD:PUBLISH
X-PUBLISHED-TTL:P3D
REFRESH-INTERVAL:P3D
CALSCALE:GREGORIAN
BEGIN:VEVENT
DTSTART:20240909T210000Z
DTEND:20240909T230000Z
X-MICROSOFT-CDO-ALLDAYEVENT:FALSE
SUMMARY:After-Hours Networking
DESCRIPTION:EVENT CANCELED!\n\nFeicht & Co is hosting an after-hours event\, and we would love for you to join us! Networking is all about making connections. We love to help our businesses do just that so be sure to join us and learn more about who Feicht & Co is and what they do.
X-ALT-DESC;FMTTYPE=text/html:<strong><em>EVENT CANCELED!</em></strong><br />\nFeicht &amp\; Co is hosting an after-hours event\, and we would love for you to join us! Networking is all about making connections. We love to help our businesses do just that so be sure to join us and learn more about who Feicht &amp\; Co is and what they do.
LOCATION:Feicht & Co 2952 South State Route 605 Galena
UID:e.295.6826
SEQUENCE:3
DTSTAMP:20260419T153108Z
URL:https://business.sunburybigwalnutchamber.com/events/details/after-hours-networking-6826
END:VEVENT

END:VCALENDAR
