BEGIN:VCALENDAR
VERSION:2.0
PRODID:-//ChamberMaster//Event Calendar 2.0//EN
METHOD:PUBLISH
X-PUBLISHED-TTL:P3D
REFRESH-INTERVAL:P3D
CALSCALE:GREGORIAN
BEGIN:VEVENT
DTSTART:20230622T210000Z
DTEND:20230622T223000Z
X-MICROSOFT-CDO-ALLDAYEVENT:FALSE
SUMMARY:After Hours Networking at Tanger
DESCRIPTION:Click Here-Annual After Hours Networking\n\n\n\nJoin the Sunbury Big Walnut Chamber of Commerce for our annual after-hours networking event in conjunction with the Delaware Area Chamber of Commerce and Tanger Outlet Mall.
X-ALT-DESC;FMTTYPE=text/html:<a href="https://chambermaster.blob.core.windows.net/userfiles/UserFiles/chambers/295/File/TangerAfterHours1.png">Click Here-Annual After Hours Networking</a><br />\n<br />\nJoin the Sunbury Big Walnut Chamber of Commerce for our annual after-hours networking event in conjunction with the Delaware Area Chamber of Commerce and Tanger Outlet Mall.<br />\n&nbsp\;
LOCATION:Tanger Outlet Mall 400 South Wilson Rd. Sunbury\, OH 43074 (I71 at the 36/37 Exit) Check in will be Outside Rise Pies
UID:e.295.6711
SEQUENCE:3
DTSTAMP:20260422T084549Z
URL:https://business.sunburybigwalnutchamber.com/events/details/after-hours-networking-at-tanger-6711
END:VEVENT

END:VCALENDAR
