BEGIN:VCALENDAR
VERSION:2.0
PRODID:-//ChamberMaster//Event Calendar 2.0//EN
METHOD:PUBLISH
X-PUBLISHED-TTL:P3D
REFRESH-INTERVAL:P3D
CALSCALE:GREGORIAN
BEGIN:VEVENT
DTSTART:20241024T210000Z
DTEND:20241024T230000Z
X-MICROSOFT-CDO-ALLDAYEVENT:FALSE
SUMMARY:After-Hours with Nicole's Brow Bar
DESCRIPTION:Join the chamber at Nicole's Brow Bar for an after-hours like none other.\n\n                                   "Trick or Treat Yourself"\n\n              Treats\, Mixers\, Promos\, Prizes and New Friends
X-ALT-DESC;FMTTYPE=text/html:Join the chamber at Nicole&#39\;s Brow Bar for an after-hours like none other.<br />\n&nbsp\; &nbsp\; &nbsp\; &nbsp\; &nbsp\; &nbsp\; &nbsp\; &nbsp\; &nbsp\; &nbsp\; &nbsp\; &nbsp\; &nbsp\; &nbsp\; &nbsp\; &nbsp\; &nbsp\; &nbsp\;&quot\;Trick or Treat Yourself&quot\;<br />\n&nbsp\; &nbsp\; &nbsp\; &nbsp\; &nbsp\; &nbsp\; &nbsp\; Treats\, Mixers\, Promos\, Prizes and New Friends
LOCATION:Nicole's Brow Bar on the Sunbury Square 38 E. Cherry St. Sunbury
UID:e.295.6977
SEQUENCE:3
DTSTAMP:20260419T171346Z
URL:https://business.sunburybigwalnutchamber.com/events/details/after-hours-with-nicole-s-brow-bar-6977
END:VEVENT

END:VCALENDAR
