BEGIN:VCALENDAR
VERSION:2.0
PRODID:-//ChamberMaster//Event Calendar 2.0//EN
METHOD:PUBLISH
X-PUBLISHED-TTL:P3D
REFRESH-INTERVAL:P3D
CALSCALE:GREGORIAN
BEGIN:VEVENT
DTSTART:20241003T210000Z
DTEND:20241003T223000Z
X-MICROSOFT-CDO-ALLDAYEVENT:FALSE
SUMMARY:Age 62+ Aging Matters Resource Event- Medicare Changes and More!
DESCRIPTION:Don't Miss this FREE presentation and available resources for these age 62+! See Flyer for details and reach out with any questions. We hope to see you there! \n\n-Medicare rule changes in 2025 and enrollment\n\n-Elder Law Attorney and Veterans Services\n\n-Long term Care\n\n-Counseling Services\n\n-Retirement Planning\n\n-Senior living option services
X-ALT-DESC;FMTTYPE=text/html:Don&#39\;t Miss this FREE presentation and available resources for these age 62+! See Flyer for details and reach out with any questions. We hope to see you there!&nbsp\;<br />\n-Medicare rule changes in 2025 and enrollment<br />\n-Elder Law Attorney and Veterans Services<br />\n-Long term Care<br />\n-Counseling Services<br />\n-Retirement Planning<br />\n-Senior living option services
LOCATION:Stark Financial Group Home Office- 5839 Chandler Ct.\, Westerville\, Ohio 43082
UID:e.295.6976
SEQUENCE:3
DTSTAMP:20260419T172806Z
URL:https://business.sunburybigwalnutchamber.com/events/details/age-62-aging-matters-resource-event-medicare-changes-and-more-6976
END:VEVENT

END:VCALENDAR
