BEGIN:VCALENDAR
VERSION:2.0
PRODID:-//ChamberMaster//Event Calendar 2.0//EN
METHOD:PUBLISH
X-PUBLISHED-TTL:P3D
REFRESH-INTERVAL:P3D
CALSCALE:GREGORIAN
BEGIN:VEVENT
DTSTART:20230619T150000Z
DTEND:20230619T180000Z
X-MICROSOFT-CDO-ALLDAYEVENT:FALSE
SUMMARY:Ain't Your Mama's Kitchen
DESCRIPTION:Get your lunch at the Community Library with Ain't Your Mama's Kitchen food truck\, June 19th from 11:00am-2:00pm.
X-ALT-DESC;FMTTYPE=text/html:Get your lunch at the Community Library with Ain&#39\;t Your Mama&#39\;s Kitchen food truck\, June 19th from 11:00am-2:00pm.
LOCATION:Community Library 44 Burrer Drive\, Sunbury\, OH 43074
UID:e.295.6720
SEQUENCE:3
DTSTAMP:20260420T074931Z
URL:https://business.sunburybigwalnutchamber.com/events/details/ain-t-your-mama-s-kitchen-6720
END:VEVENT

END:VCALENDAR
