BEGIN:VCALENDAR
VERSION:2.0
PRODID:-//ChamberMaster//Event Calendar 2.0//EN
METHOD:PUBLISH
X-PUBLISHED-TTL:P3D
REFRESH-INTERVAL:P3D
CALSCALE:GREGORIAN
BEGIN:VEVENT
DTSTART:20231108T230000Z
DTEND:20231109T020000Z
X-MICROSOFT-CDO-ALLDAYEVENT:FALSE
SUMMARY:Annual Dinner/meeting
DESCRIPTION:Join the chamber for our annual dinner & meeting. The year will soon be over and it's time for us to share our annual reports for 2023. We will introduce any new board members and officers for 2024. There will be an opportunity to enter the silent auction and network with others.
X-ALT-DESC;FMTTYPE=text/html:Join the chamber for our annual dinner &amp\; meeting. The year will soon be over and it&#39\;s time for us to share our annual reports for 2023. We will introduce any new board members and officers for 2024. There will be an opportunity to enter the silent auction and network with others.&nbsp\;
LOCATION:Rattlesnake Ridge Golf Club 1 Rattlesnake Dr. Sunbury
UID:e.295.6692
SEQUENCE:3
DTSTAMP:20260419T223042Z
URL:https://business.sunburybigwalnutchamber.com/events/details/annual-dinner-meeting-6692
END:VEVENT

END:VCALENDAR
