BEGIN:VCALENDAR
VERSION:2.0
PRODID:-//ChamberMaster//Event Calendar 2.0//EN
METHOD:PUBLISH
X-PUBLISHED-TTL:P3D
REFRESH-INTERVAL:P3D
CALSCALE:GREGORIAN
BEGIN:VEVENT
DTSTART:20241113T223000Z
DTEND:20241114T010000Z
X-MICROSOFT-CDO-ALLDAYEVENT:FALSE
SUMMARY:Annual Dinner & Meeting
DESCRIPTION:Join the Chamber for our Annual Dinner & Meeting.\n\nIt's time for us to share our annual reports for 2024. We will introduce any new board members and officers for 2025. There will be an opportunity to enter the silent auction\, and the wine pull as well as network with others. We are looking forward to seeing you and handing out some awards as well.
X-ALT-DESC;FMTTYPE=text/html:Join the Chamber for our Annual Dinner &amp\; Meeting.<br />\n<span style="color: rgb(51\, 51\, 51)\; font-family: sans-serif\, Arial\, Verdana\, &quot\;Trebuchet MS&quot\;\; font-size: 13px\; background-color: rgb(255\, 255\, 255)\;">It&#39\;s time for us to share our annual reports for 2024. We will introduce any new board members and officers for 2025. There will be an opportunity to enter the silent auction\, and the wine pull as well as network with others. We are looking forward to seeing you and handing out some awards as well.</span>
LOCATION:Rattlesnake Ridge Golf Club 1 Rattlesnake Dr Sunbury
UID:e.295.6785
SEQUENCE:3
DTSTAMP:20260419T171709Z
URL:https://business.sunburybigwalnutchamber.com/events/details/annual-dinner-meeting-6785
END:VEVENT

END:VCALENDAR
