BEGIN:VCALENDAR
VERSION:2.0
PRODID:-//ChamberMaster//Event Calendar 2.0//EN
METHOD:PUBLISH
X-PUBLISHED-TTL:P3D
REFRESH-INTERVAL:P3D
CALSCALE:GREGORIAN
BEGIN:VEVENT
DTSTART:20221109T230000Z
DTEND:20221110T013000Z
X-MICROSOFT-CDO-ALLDAYEVENT:FALSE
SUMMARY:Annual Meeting/Dinner - Nov. 9th
DESCRIPTION:Annual Meeting/Dinner- Join us for an Italian dinner as the year comes to a close. We will share our annual reports for 2022. We will introduce our new board members and officers for 2023. There will be an opportunity to enter the silent auction and network with others. A portion of the proceeds from the dinner will benefit Big Walnut Friends Who Share.\n\n\n\nSUNBURY BIG WALNUT CHAMBER OF COMMERCE\n\nANNUAL DINNER\n\nNOVEMBER 9\, 2022\n\nAGENDA\n\n	Welcome\n	President's Report\n	Financial Report\n	Election of Directors \n	Amendment of ByLaws
X-ALT-DESC;FMTTYPE=text/html:Annual Meeting/Dinner- Join us for an Italian dinner as the year comes to a close. We will share our annual reports for 2022. We will introduce our new board members and officers for 2023.&nbsp\;<span background-color:="" font-size:="" style="color: rgb(51\, 51\, 51)\; font-family: sans-serif\, Arial\, Verdana\, " trebuchet="">There will be an opportunity to enter the silent auction and network with others. A portion of the proceeds from the dinner will benefit Big Walnut Friends Who Share.</span><br />\n<br />\n<span style="font-size:12px\;">SUNBURY BIG WALNUT CHAMBER OF COMMERCE<br />\nANNUAL DINNER<br />\nNOVEMBER 9\, 2022<br />\n<u>AGENDA</u></span>\n<ol style="list-style-type:upper-roman\;">\n	<li><span style="font-size:12px\;">Welcome</span></li>\n	<li><span style="font-size:12px\;">President&rsquo\;s Report</span></li>\n	<li><span style="font-size:12px\;">Financial Report</span></li>\n	<li><span style="font-size:12px\;">Election of Directors&nbsp\;</span></li>\n	<li><span style="font-size:12px\;"><span style="font-size:12px\;"><span style="font-family:calibri\,sans-serif\;">Amendment of ByLaws</span></span></span></li>\n</ol>\n<br />\n&nbsp\;
LOCATION:NorthStar 1150 Wilson Road Sunbury\, OH 43074
UID:e.295.6684
SEQUENCE:3
DTSTAMP:20260420T194801Z
URL:https://business.sunburybigwalnutchamber.com/events/details/annual-meeting-dinner-nov-9th-6684
END:VEVENT

END:VCALENDAR
