BEGIN:VCALENDAR
VERSION:2.0
PRODID:-//ChamberMaster//Event Calendar 2.0//EN
METHOD:PUBLISH
X-PUBLISHED-TTL:P3D
REFRESH-INTERVAL:P3D
CALSCALE:GREGORIAN
BEGIN:VEVENT
DTSTART:20250628T140000Z
DTEND:20250628T160000Z
X-MICROSOFT-CDO-ALLDAYEVENT:FALSE
SUMMARY:Annual Memorial Butterfly Release
DESCRIPTION:We warmly invite you to join us for Cornerstone of Hope's Annual Memorial Butterfly Release a beautiful and uplifting event to remember and honor those we hold close in our hearts.\n\n\n\nSurrounded by nature and the quiet peace of the woods\, this family-friendly gathering offers a heartfelt opportunity to reflect\, connect\, and celebrate life. During the ceremony\, you'll have the chance to release a butterfly a delicate and symbolic tribute to the beauty of transformation\, remembrance\, and hope.\n\n\n\nButterflies are available for $20 each\, with all releases taking place following the memorial ceremony.\n\n\n\nWe hope you'll join us for this meaningful morning of remembrance\, community\, and healing.
X-ALT-DESC;FMTTYPE=text/html:We warmly invite you to join us for Cornerstone of Hope&rsquo\;s Annual Memorial Butterfly Release&mdash\;a beautiful and uplifting event to remember and honor those we hold close in our hearts.<br />\n<br />\nSurrounded by nature and the quiet peace of the woods\, this family-friendly gathering offers a heartfelt opportunity to reflect\, connect\, and celebrate life. During the ceremony\, you&rsquo\;ll have the chance to release a butterfly&mdash\;a delicate and symbolic tribute to the beauty of transformation\, remembrance\, and hope.<br />\n<br />\nButterflies are available for $20 each\, with all releases taking place following the memorial ceremony.<br />\n<br />\nWe hope you&rsquo\;ll join us for this meaningful morning of remembrance\, community\, and healing.
LOCATION:Northwest United Methodist Church - Chapel in the Woods 5200 Riverside Drive Columbus\, Ohio 43220
UID:e.295.7031
SEQUENCE:3
DTSTAMP:20260420T071324Z
URL:https://business.sunburybigwalnutchamber.com/events/details/annual-memorial-butterfly-release-7031
END:VEVENT

END:VCALENDAR
