BEGIN:VCALENDAR
VERSION:2.0
PRODID:-//ChamberMaster//Event Calendar 2.0//EN
METHOD:PUBLISH
X-PUBLISHED-TTL:P3D
REFRESH-INTERVAL:P3D
CALSCALE:GREGORIAN
BEGIN:VEVENT
DTSTART:20230722T120000Z
DTEND:20230722T160000Z
X-MICROSOFT-CDO-ALLDAYEVENT:FALSE
SUMMARY:Annual Terry Hummel Memorial Fishing Derby
DESCRIPTION:The American Legion Post 457 hosts the Annual Terry Hummel Memorial Fishing Derby. This is open to all ages. Poles and bait will be provided. There will be buttons for the kids. Lunch\, drinks and snacks will be available. There will be a casting clinic at 8:30 and there will be drawings for new fishing poles.\n\nPlease reach out to Russ for more inofrmation or to make a donation. 440-339-1215 or  rt.light.pl@gmail.com
X-ALT-DESC;FMTTYPE=text/html:<span style="color: rgb(51\, 51\, 51)\; font-family: sans-serif\, Arial\, Verdana\, &quot\;Trebuchet MS&quot\;\; font-size: 13px\; background-color: rgb(255\, 255\, 255)\;">The American Legion Post 457 hosts the Annual Terry Hummel Memorial Fishing Derby. This is open to all ages. Poles and bait will be provided. There will be buttons for the kids. Lunch\, drinks and snacks will be available. There will be a casting clinic at 8:30 and there will be drawings for new fishing poles.</span><br style="color: rgb(51\, 51\, 51)\; font-family: sans-serif\, Arial\, Verdana\, &quot\;Trebuchet MS&quot\;\; font-size: 13px\;" />\n<span style="color: rgb(51\, 51\, 51)\; font-family: sans-serif\, Arial\, Verdana\, &quot\;Trebuchet MS&quot\;\; font-size: 13px\; background-color: rgb(255\, 255\, 255)\;">Please reach out to Russ for more inofrmation or to make a donation. 440-339-1215 or&nbsp\; rt.light.pl@gmail.com&nbsp\; &nbsp\;</span>
LOCATION:Sunbury Reservoir at Otis & Sedgwick
UID:e.295.6733
SEQUENCE:3
DTSTAMP:20260420T074129Z
URL:https://business.sunburybigwalnutchamber.com/events/details/annual-terry-hummel-memorial-fishing-derby-6733
END:VEVENT

END:VCALENDAR
