BEGIN:VCALENDAR
VERSION:2.0
PRODID:-//ChamberMaster//Event Calendar 2.0//EN
METHOD:PUBLISH
X-PUBLISHED-TTL:P3D
REFRESH-INTERVAL:P3D
CALSCALE:GREGORIAN
BEGIN:VEVENT
DTSTART:20240214T130000Z
DTEND:20240214T140000Z
X-MICROSOFT-CDO-ALLDAYEVENT:FALSE
SUMMARY:Before-Hours "Coffee & Conversations"
DESCRIPTION:Join the chamber and the Goodwill for Coffee & Conversations. Enjoy coffee and donuts while learning more about the Goodwill and how they operate\, as well as gain a better understanding of their mission. All this and an opportunity to network too.
X-ALT-DESC;FMTTYPE=text/html:Join the chamber and the Goodwill for Coffee &amp\; Conversations. Enjoy coffee and donuts while learning more about the Goodwill and how they operate\, as well as gain a better understanding of their mission. All this and an opportunity to network too.
LOCATION:Sunbury Big Walnut Chamber of Commerce 39 E Granville St Sunbury
UID:e.295.6769
SEQUENCE:3
DTSTAMP:20260419T172453Z
URL:https://business.sunburybigwalnutchamber.com/events/details/before-hours-coffee-conversations-6769
END:VEVENT

END:VCALENDAR
