BEGIN:VCALENDAR
VERSION:2.0
PRODID:-//ChamberMaster//Event Calendar 2.0//EN
METHOD:PUBLISH
X-PUBLISHED-TTL:P3D
REFRESH-INTERVAL:P3D
CALSCALE:GREGORIAN
BEGIN:VEVENT
DTSTART:20230418T120000Z
DTEND:20230418T133000Z
X-MICROSOFT-CDO-ALLDAYEVENT:FALSE
SUMMARY:Before Hours Networking - Sunbury BW Area Chamber Event
DESCRIPTION:Join us for a before hours networking event at Newman Roofing. We are excited to see their new business location and get a tour of the facility. Please join us for a light breakfast\, the tour and an opportunity to network with other professionals in the community.
X-ALT-DESC;FMTTYPE=text/html:Join us for a before hours networking event at Newman Roofing. We are excited to see their new business location and get a tour of the facility. Please join us for a light breakfast\, the tour and an opportunity to network with other professionals in the community.
LOCATION:Newman Roofing 825 Kintner Parkway Sunbury 43074
UID:e.295.6703
SEQUENCE:3
DTSTAMP:20260420T105450Z
URL:https://business.sunburybigwalnutchamber.com/events/details/before-hours-networking-sunbury-bw-area-chamber-event-6703
END:VEVENT

END:VCALENDAR
