BEGIN:VCALENDAR
VERSION:2.0
PRODID:-//ChamberMaster//Event Calendar 2.0//EN
METHOD:PUBLISH
X-PUBLISHED-TTL:P3D
REFRESH-INTERVAL:P3D
CALSCALE:GREGORIAN
BEGIN:VEVENT
DTSTART:20251023T123000Z
DTEND:20251023T133000Z
X-MICROSOFT-CDO-ALLDAYEVENT:FALSE
SUMMARY:BizWIN
DESCRIPTION:Deanna Mox\, Vice President of The Middlefield Bank in Sunbury\, Ohio will be our host for this monthly chat. Middlefield will cover coffee and treats\, and we will meet in the back for engaging conversation and networking.
X-ALT-DESC;FMTTYPE=text/html:Deanna Mox\, Vice President of The Middlefield Bank in Sunbury\, Ohio will be our host for this monthly chat. Middlefield will cover coffee and treats\, and we will meet in the back for engaging conversation and networking.
LOCATION:Village Coffee of Sunbury 25 E Granville St Sunbury
UID:e.295.7075
SEQUENCE:3
DTSTAMP:20260420T135727Z
URL:https://business.sunburybigwalnutchamber.com/events/details/bizwin-10-23-2025-7075
END:VEVENT

END:VCALENDAR
