BEGIN:VCALENDAR
VERSION:2.0
PRODID:-//ChamberMaster//Event Calendar 2.0//EN
METHOD:PUBLISH
X-PUBLISHED-TTL:P3D
REFRESH-INTERVAL:P3D
CALSCALE:GREGORIAN
BEGIN:VEVENT
DTSTART:20250805T150000Z
DTEND:20250805T170000Z
X-MICROSOFT-CDO-ALLDAYEVENT:FALSE
SUMMARY:BizWIN
DESCRIPTION:Columbus Minority Business Assistance Center Presentation\n\nWe'll be hosting a wonderful presentation that gives a broad overview of the State Certification Process.  It is a great opportunity to introduce various State Certifications available\, discuss general availability and highlight the benefits that come with them!
X-ALT-DESC;FMTTYPE=text/html:Columbus Minority Business Assistance Center Presentation<br />\nWe&#39\;ll be hosting a wonderful presentation that gives a broad overview of the State Certification Process.&nbsp\; It is a great opportunity to introduce various State Certifications available\, discuss general availability and highlight the benefits that come with them!
LOCATION:Sunbury Big Walnut Chamber of Commerce 39 East Granville Street Sunbury\, Ohio 43074
UID:e.295.7073
SEQUENCE:3
DTSTAMP:20260420T103649Z
URL:https://business.sunburybigwalnutchamber.com/events/details/bizwin-7073
END:VEVENT

END:VCALENDAR
