BEGIN:VCALENDAR
VERSION:2.0
PRODID:-//ChamberMaster//Event Calendar 2.0//EN
METHOD:PUBLISH
X-PUBLISHED-TTL:P3D
REFRESH-INTERVAL:P3D
CALSCALE:GREGORIAN
BEGIN:VEVENT
DTSTART:20230309T230000Z
DTEND:20230310T010000Z
X-MICROSOFT-CDO-ALLDAYEVENT:FALSE
SUMMARY:BizWIN-An Evening of Networking
DESCRIPTION:BizWIN is a brand new women's group within the Sunbury Big Walnut Chamber of Commerce. If you are a professional woman (or looking to be) in our community\, then please join us for an opportunity to learn more about what our group's mission and purpose is as well as an opportunity to network with other amazing women in the community. This event will be hosted by Feicht & Co. of Galena.
X-ALT-DESC;FMTTYPE=text/html:BizWIN is a brand new women&#39\;s group within the Sunbury Big Walnut Chamber of Commerce. If you are a professional woman (or looking to be) in our community\, then please join us for an opportunity to learn more about what our group&#39\;s mission and purpose is as well as an opportunity to network with other amazing women in the community. This event will be hosted by Feicht &amp\; Co. of Galena.
LOCATION:Feicht & Co 2952 South State Route 605 Galena\, OH 43021
UID:e.295.6701
SEQUENCE:3
DTSTAMP:20260420T141857Z
URL:https://business.sunburybigwalnutchamber.com/events/details/bizwin-an-evening-of-networking-6701
END:VEVENT

END:VCALENDAR
