BEGIN:VCALENDAR
VERSION:2.0
PRODID:-//ChamberMaster//Event Calendar 2.0//EN
METHOD:PUBLISH
X-PUBLISHED-TTL:P3D
REFRESH-INTERVAL:P3D
CALSCALE:GREGORIAN
BEGIN:VEVENT
DTSTART:20240209T131500Z
DTEND:20240209T143000Z
X-MICROSOFT-CDO-ALLDAYEVENT:FALSE
SUMMARY:BizWIN Book Club
DESCRIPTION:BizWIN has started a book club! We will focus on educational books three quarters out of the year and have one fun book for the summer quarter. Want to connect with other women in the business community? Want to take some time for yourself and read some great books? Then join us!\n\nFirst book is The Communication Code. We will discuss the first 3 chapters.
X-ALT-DESC;FMTTYPE=text/html:BizWIN has started a book club! We will focus on educational books three quarters out of the year and have one fun book for the summer quarter. Want to connect with other women in the business community? Want to take some time for yourself and read some great books? Then join us!<br />\nFirst book is The Communication Code. We will discuss the first 3 chapters.
LOCATION:Village Coffee of Sunbury 25 E. Granville St Sunbury
UID:e.295.6790
SEQUENCE:3
DTSTAMP:20260419T192227Z
URL:https://business.sunburybigwalnutchamber.com/events/details/bizwin-book-club-6790
END:VEVENT

END:VCALENDAR
