BEGIN:VCALENDAR
VERSION:2.0
PRODID:-//ChamberMaster//Event Calendar 2.0//EN
METHOD:PUBLISH
X-PUBLISHED-TTL:P3D
REFRESH-INTERVAL:P3D
CALSCALE:GREGORIAN
BEGIN:VEVENT
DTSTART:20250117T133000Z
DTEND:20250117T143000Z
X-MICROSOFT-CDO-ALLDAYEVENT:FALSE
SUMMARY:BizWIN Chat
DESCRIPTION:Join the women of BizWIN for our monthly chat. This time the topic will be money\, especially in regard to women\, of course! Come ready to learn\, share and connect with other businesswomen in the community.
X-ALT-DESC;FMTTYPE=text/html:Join the women of BizWIN for our monthly chat. This time the topic will be money\, especially in regard to women\, of course! Come ready to learn\, share and connect with other businesswomen in the community.&nbsp\;
LOCATION:Stark Financial 5839 Chandler Ct Westerville\, OH 43082
UID:e.295.6980
SEQUENCE:3
DTSTAMP:20260419T222110Z
URL:https://business.sunburybigwalnutchamber.com/events/details/bizwin-chat-6980
END:VEVENT

END:VCALENDAR
