BEGIN:VCALENDAR
VERSION:2.0
PRODID:-//ChamberMaster//Event Calendar 2.0//EN
METHOD:PUBLISH
X-PUBLISHED-TTL:P3D
REFRESH-INTERVAL:P3D
CALSCALE:GREGORIAN
BEGIN:VEVENT
DTSTART:20230512T163000Z
DTEND:20230512T190000Z
X-MICROSOFT-CDO-ALLDAYEVENT:FALSE
SUMMARY:BizWIN Co-Ed (Driving) Range Event
DESCRIPTION:Join the BizWIN group as we host a co-ed Range Event. This will be an opportunity to come and learn some golf swings and/or practice your skills\, network with other business members in the community and maybe even put together a team for the Anuual Golf Outing later this year. Enjoy a mimosa or two as well. There will be clubs available for those that don't have their own.
X-ALT-DESC;FMTTYPE=text/html:Join the BizWIN group as we host a co-ed Range Event. This will be an opportunity to come and learn some golf swings and/or practice your skills\, network with other business members in the community and maybe even put together a team for the Anuual Golf Outing later this year. Enjoy a mimosa or two as well. There will be clubs available for those that don&#39\;t have their own.
LOCATION:NorthStar Golf Club 1150 North Wilson Rd Sunbury\, OH 43074
UID:e.295.6700
SEQUENCE:3
DTSTAMP:20260420T091518Z
URL:https://business.sunburybigwalnutchamber.com/events/details/bizwin-co-ed-driving-range-event-6700
END:VEVENT

END:VCALENDAR
