BEGIN:VCALENDAR
VERSION:2.0
PRODID:-//ChamberMaster//Event Calendar 2.0//EN
METHOD:PUBLISH
X-PUBLISHED-TTL:P3D
REFRESH-INTERVAL:P3D
CALSCALE:GREGORIAN
BEGIN:VEVENT
DTSTART:20250919T190000Z
DTEND:20250919T203000Z
X-MICROSOFT-CDO-ALLDAYEVENT:FALSE
SUMMARY:BizWIN Monthly Chat
DESCRIPTION:BizWin's Monthly Chat meets at Athletico.\n\nEverything You Want to Know About Your Pelvic Floor and Women's Heath (Menopause\, leaking\, etc).\n\n \n\nWe will have food and some happy hour drinks here at the clinic.
X-ALT-DESC;FMTTYPE=text/html:BizWin&#39\;s Monthly Chat meets at Athletico.<br />\n<span style="color:black\;">Everything You Want to Know About Your Pelvic Floor and Women&#39\;s Heath (Menopause\, leaking\, etc).</span><br />\n&nbsp\;<br />\n<span style="color:black\;">We will have food and some happy hour drinks here at the clinic.</span>
LOCATION:Athletico 131 Miller Dr Sunbury
UID:e.295.7068
SEQUENCE:3
DTSTAMP:20260420T123320Z
URL:https://business.sunburybigwalnutchamber.com/events/details/bizwin-monthly-chat-09-19-2025-7068
END:VEVENT

END:VCALENDAR
