BEGIN:VCALENDAR
VERSION:2.0
PRODID:-//ChamberMaster//Event Calendar 2.0//EN
METHOD:PUBLISH
X-PUBLISHED-TTL:P3D
REFRESH-INTERVAL:P3D
CALSCALE:GREGORIAN
BEGIN:VEVENT
DTSTART:20250214T133000Z
DTEND:20250214T143000Z
X-MICROSOFT-CDO-ALLDAYEVENT:FALSE
SUMMARY:BizWIN Monthly Chat
DESCRIPTION:Join the BizWIN women for our monthly chat.
X-ALT-DESC;FMTTYPE=text/html:Join the BizWIN women for our monthly chat.&nbsp\;
LOCATION:Sunbury Big Walnut Chamber of Commerce 39 E Granville Sunbury
UID:e.295.6995
SEQUENCE:3
DTSTAMP:20260420T000009Z
URL:https://business.sunburybigwalnutchamber.com/events/details/bizwin-monthly-chat-6995
END:VEVENT

END:VCALENDAR
