BEGIN:VCALENDAR
VERSION:2.0
PRODID:-//ChamberMaster//Event Calendar 2.0//EN
METHOD:PUBLISH
X-PUBLISHED-TTL:P3D
REFRESH-INTERVAL:P3D
CALSCALE:GREGORIAN
BEGIN:VEVENT
DTSTART:20250411T123000Z
DTEND:20250411T133000Z
X-MICROSOFT-CDO-ALLDAYEVENT:FALSE
SUMMARY:BizWIN Monthly Chat
DESCRIPTION:BizWIN Monthly Chat \n\nGrief is a journey no child should have to walk alone. Cornerstone of Hope's Day camp\, Camp Memory\, provides a safe\, compassionate space where children ages 6 12 can process their loss\, connect with others\, and find healing through meaningful activities.\n\nWe'll start off our BizWin morning with coffee\, pastries\, and a powerful discussion about the impact of Camp Memory the life-changing experiences it offers and the profound difference it makes in the lives of grieving children.\n\nCome for the coffee\, stay for the conversation\, and leave inspired to make a difference.
X-ALT-DESC;FMTTYPE=text/html:BizWIN Monthly Chat&nbsp\;<br />\n<span style="color:black\;">Grief is a journey no child should have to walk alone. Cornerstone of Hope&rsquo\;s Day camp\, Camp Memory\, provides a safe\, compassionate space where children ages 6&ndash\;12 can process their loss\, connect with others\, and find healing through meaningful activities.</span><br />\n<span style="color:black\;">We&rsquo\;ll start off our BizWin morning&nbsp\;with coffee\, pastries\, and a powerful discussion&nbsp\;about the impact of Camp Memory&mdash\;the life-changing experiences it offers and the profound difference it makes in the lives of grieving children.</span><br />\n<span style="color:black\;">Come for the coffee\, stay for the conversation\, and leave inspired to make a difference.&nbsp\;</span><br />\n&nbsp\;
LOCATION:Cornerstone of Hope 253 N. State Street Ste. 200\, Westerville\, OH 43081
UID:e.295.6996
SEQUENCE:3
DTSTAMP:20260420T014845Z
URL:https://business.sunburybigwalnutchamber.com/events/details/bizwin-monthly-chat-6996
END:VEVENT

END:VCALENDAR
