BEGIN:VCALENDAR
VERSION:2.0
PRODID:-//ChamberMaster//Event Calendar 2.0//EN
METHOD:PUBLISH
X-PUBLISHED-TTL:P3D
REFRESH-INTERVAL:P3D
CALSCALE:GREGORIAN
BEGIN:VEVENT
DTSTART:20250321T123000Z
DTEND:20250321T133000Z
X-MICROSOFT-CDO-ALLDAYEVENT:FALSE
SUMMARY:BizWIN Monthly Chat
DESCRIPTION:This month's chat with BizWIN will feature a self-awareness talk and tips from a Westerville Police Officer. Hosted by Beth Panyik of Money Concepts.
X-ALT-DESC;FMTTYPE=text/html:This month&#39\;s chat with BizWIN will feature a self-awareness talk and tips from a Westerville Police Officer. Hosted by Beth Panyik of Money Concepts.
LOCATION:Money Concepts Financial Planning Center 40 S Vernon St Sunbury
UID:e.295.7003
SEQUENCE:3
DTSTAMP:20260420T000429Z
URL:https://business.sunburybigwalnutchamber.com/events/details/bizwin-monthly-chat-7003
END:VEVENT

END:VCALENDAR
