BEGIN:VCALENDAR
VERSION:2.0
PRODID:-//ChamberMaster//Event Calendar 2.0//EN
METHOD:PUBLISH
X-PUBLISHED-TTL:P3D
REFRESH-INTERVAL:P3D
CALSCALE:GREGORIAN
BEGIN:VEVENT
DTSTART:20250509T123000Z
DTEND:20250509T133000Z
X-MICROSOFT-CDO-ALLDAYEVENT:FALSE
SUMMARY:BizWIN Monthly Chat
DESCRIPTION:Join like-minded women for our BizWIN monthly chat. This time we will gather at the clubhouse at Northstar Flats.
X-ALT-DESC;FMTTYPE=text/html:Join like-minded women for our BizWIN monthly chat. This time we will gather at the clubhouse at Northstar Flats.
LOCATION:Northstar Flats 865 Northstar Flats Dr Sunbury
UID:e.295.7022
SEQUENCE:3
DTSTAMP:20260420T033801Z
URL:https://business.sunburybigwalnutchamber.com/events/details/bizwin-monthly-chat-7022
END:VEVENT

END:VCALENDAR
