BEGIN:VCALENDAR
VERSION:2.0
PRODID:-//ChamberMaster//Event Calendar 2.0//EN
METHOD:PUBLISH
X-PUBLISHED-TTL:P3D
REFRESH-INTERVAL:P3D
CALSCALE:GREGORIAN
BEGIN:VEVENT
DTSTART:20250717T193000Z
DTEND:20250717T220000Z
X-MICROSOFT-CDO-ALLDAYEVENT:FALSE
SUMMARY:BizWin Monthly Chat
DESCRIPTION:BizWIN is joining forces with the Firehouse Tavern for our monthly chat. Women\, join us for networking with a twist...our version of a snappy happy hour.\n\nWe hope you will join us.  Cheers!
X-ALT-DESC;FMTTYPE=text/html:<span style="color: rgb(51\, 51\, 51)\; font-family: sans-serif\, Arial\, Verdana\, &quot\;Trebuchet MS&quot\;\; font-size: 13px\; background-color: rgb(255\, 255\, 255)\;">BizWIN is joining forces with the Firehouse Tavern for our monthly chat. Women\, join us for networking with a twist...our version of a&nbsp\;</span><span style="color: rgb(51\, 51\, 51)\; font-family: sans-serif\, Arial\, Verdana\, &quot\;Trebuchet MS&quot\;\; font-size: 14px\;"><span style="font-family: &quot\;comic sans ms&quot\;\;"><strong>snappy happy</strong> <strong>hour</strong>.</span></span><br style="color: rgb(51\, 51\, 51)\; font-family: sans-serif\, Arial\, Verdana\, &quot\;Trebuchet MS&quot\;\; font-size: 13px\;" />\n<span style="color: rgb(51\, 51\, 51)\; font-family: sans-serif\, Arial\, Verdana\, &quot\;Trebuchet MS&quot\;\; font-size: 13px\; background-color: rgb(255\, 255\, 255)\;">We hope you will join us.&nbsp\; Cheers!</span>
LOCATION:Firehouse Tavern 38 S. Vernon Street Sunbury\, Ohio 43074
UID:e.295.7078
SEQUENCE:3
DTSTAMP:20260420T071323Z
URL:https://business.sunburybigwalnutchamber.com/events/details/bizwin-monthly-chat-7078
END:VEVENT

END:VCALENDAR
