BEGIN:VCALENDAR
VERSION:2.0
PRODID:-//ChamberMaster//Event Calendar 2.0//EN
METHOD:PUBLISH
X-PUBLISHED-TTL:P3D
REFRESH-INTERVAL:P3D
CALSCALE:GREGORIAN
BEGIN:VEVENT
DTSTART:20250410T220000Z
DTEND:20250411T000000Z
X-MICROSOFT-CDO-ALLDAYEVENT:FALSE
SUMMARY:Bourbon Tasting "Raise the Roof" Fundraiser
DESCRIPTION:The Chamber is hosting a Bourbon Tasting/Fundraiser in order to raise funds for a new roof! Please join us for a sampling of some delicious bourbons and help us "Raise the Roof"\, get your raffle tickets in the bourbon drawing and take advantage of the silent auction.
X-ALT-DESC;FMTTYPE=text/html:The Chamber is hosting a Bourbon Tasting/Fundraiser in order to raise funds for a new roof! Please join us for a sampling of some delicious bourbons and help us &quot\;Raise the Roof&quot\;\, get your raffle tickets in the bourbon drawing and take advantage of the silent auction.
LOCATION:Fraternal Order of Eagles 3614 235 N COLUMBUS ST Sunbury
UID:e.295.7002
SEQUENCE:3
DTSTAMP:20260420T014936Z
URL:https://business.sunburybigwalnutchamber.com/events/details/bourbon-tasting-raise-the-roof-fundraiser-7002
END:VEVENT

END:VCALENDAR
