BEGIN:VCALENDAR
VERSION:2.0
PRODID:-//ChamberMaster//Event Calendar 2.0//EN
METHOD:PUBLISH
X-PUBLISHED-TTL:P3D
REFRESH-INTERVAL:P3D
CALSCALE:GREGORIAN
BEGIN:VEVENT
DTSTART:20230531T130000Z
DTEND:20230531T150000Z
X-MICROSOFT-CDO-ALLDAYEVENT:FALSE
SUMMARY:Breakfast at the Library
DESCRIPTION:Start your morning off right at the Community Library every Wednesday beginning May 31st from 9:00-11:00am. Get your coffee and breakfast from Bushel and a Bean food truck with Flutterby Bakery.
X-ALT-DESC;FMTTYPE=text/html:Start your morning off right at the Community Library every Wednesday beginning May 31st from 9:00-11:00am. Get your coffee and breakfast from Bushel and a Bean food truck with Flutterby Bakery.
LOCATION:Community Library 44 Burrer Drive\, Sunbury\, OH 43074
UID:e.295.6717
SEQUENCE:3
DTSTAMP:20260420T091048Z
URL:https://business.sunburybigwalnutchamber.com/events/details/breakfast-at-the-library-6717
END:VEVENT

END:VCALENDAR
