BEGIN:VCALENDAR
VERSION:2.0
PRODID:-//ChamberMaster//Event Calendar 2.0//EN
METHOD:PUBLISH
X-PUBLISHED-TTL:P3D
REFRESH-INTERVAL:P3D
CALSCALE:GREGORIAN
BEGIN:VEVENT
DTSTART:20241022T220000Z
DTEND:20241023T000000Z
X-MICROSOFT-CDO-ALLDAYEVENT:FALSE
SUMMARY:Building A Prosperous Community - What Does it Take?
DESCRIPTION:Join the chamber as we invite our panelists to answer questions on how best to see our community prosper. We will hear from local realtors\, developers\, bankers and brokers as they answer the questions that address the challenges we are facing and offer their perspective.\n\nPanelists include Warren Cox of Middlefield Bank\, Kelley Hall of Patriot Mortgage\, Morgan Knapp of Elysian Homes\, Jill Love of ReMax\, Jonathan Wilcox of Wilcox Communities and Joe Thomas of Metro Development.
X-ALT-DESC;FMTTYPE=text/html:Join the chamber as we invite our panelists to answer questions on how best to see our community prosper. We will hear from local realtors\, developers\, bankers and brokers as they answer the questions that address the challenges we are facing and offer their perspective.<br />\nPanelists include Warren Cox of Middlefield Bank\, Kelley Hall of Patriot Mortgage\, Morgan Knapp of Elysian Homes\, Jill Love of ReMax\, Jonathan Wilcox of Wilcox Communities and Joe Thomas of Metro Development.<br />\n&nbsp\;
LOCATION:BWHS Commons 713 N. Miller Dr. Sunbury
UID:e.295.6819
SEQUENCE:3
DTSTAMP:20260419T154326Z
URL:https://business.sunburybigwalnutchamber.com/events/details/building-a-prosperous-community-what-does-it-take-6819
END:VEVENT

END:VCALENDAR
