BEGIN:VCALENDAR
VERSION:2.0
PRODID:-//ChamberMaster//Event Calendar 2.0//EN
METHOD:PUBLISH
X-PUBLISHED-TTL:P3D
REFRESH-INTERVAL:P3D
CALSCALE:GREGORIAN
BEGIN:VEVENT
DTSTART:20251203T230000Z
DTEND:20251204T010000Z
X-MICROSOFT-CDO-ALLDAYEVENT:FALSE
SUMMARY:Christmas Ornament Workshop
DESCRIPTION:The holiday season can bring both joy and reflection   a time to honor memories\, embrace hope\, and connect with one another. Cornerstone of Hope invites all families to join us for a warm and welcoming evening filled with holiday activities and togetherness.\n\n\n\nDecorate an ornament to take home\, enjoy a cozy hot chocolate bar\, visit the coloring and face-painting stations\, and share in the excitement of a special visit from Santa.\n\n\n\nWhether you come to remember\, to celebrate\, or simply to be surrounded by community\, this evening offers a space of comfort\, joy\, and hope for all.
X-ALT-DESC;FMTTYPE=text/html:The holiday season can bring both joy and reflection &mdash\; a time to honor memories\, embrace hope\, and connect with one another. Cornerstone of Hope invites all families to join us for a warm and welcoming evening filled with holiday activities and togetherness.<br />\n<br />\nDecorate an ornament to take home\, enjoy a cozy hot chocolate bar\, visit the coloring and face-painting stations\, and share in the excitement of a special visit from Santa.<br />\n<br />\nWhether you come to remember\, to celebrate\, or simply to be surrounded by community\, this evening offers a space of comfort\, joy\, and hope for all.
LOCATION:Cornerstone of Hope 253 N State Street\, Suite 200 Westerville\, Ohio 43081
UID:e.295.7126
SEQUENCE:3
DTSTAMP:20260420T155501Z
URL:https://business.sunburybigwalnutchamber.com/events/details/christmas-ornament-workshop-7126
END:VEVENT

END:VCALENDAR
