BEGIN:VCALENDAR
VERSION:2.0
PRODID:-//ChamberMaster//Event Calendar 2.0//EN
METHOD:PUBLISH
X-PUBLISHED-TTL:P3D
REFRESH-INTERVAL:P3D
CALSCALE:GREGORIAN
BEGIN:VEVENT
DTSTART:20240926T200000Z
DTEND:20240926T220000Z
X-MICROSOFT-CDO-ALLDAYEVENT:FALSE
SUMMARY:City of Sunbury Ribbon Cutting & Grand Re-Opening
DESCRIPTION:The City of Sunbury has been busy getting a facelift for their municipal building. They are ready to show off the changes and we are excited to see inside. Join us as we do the Ribbon Cutting and stick around for the tour and more!
X-ALT-DESC;FMTTYPE=text/html:The City of Sunbury has been busy getting a facelift for their municipal building. They are ready to show off the changes and we are excited to see inside. Join us as we do the Ribbon Cutting and stick around for the tour and more!
LOCATION:Sunbury Municipal Building 9 E. Granville St. Sunbury
UID:e.295.6967
SEQUENCE:3
DTSTAMP:20260419T140056Z
URL:https://business.sunburybigwalnutchamber.com/events/details/city-of-sunbury-ribbon-cutting-grand-re-opening-6967
END:VEVENT

END:VCALENDAR
