BEGIN:VCALENDAR
VERSION:2.0
PRODID:-//ChamberMaster//Event Calendar 2.0//EN
METHOD:PUBLISH
X-PUBLISHED-TTL:P3D
REFRESH-INTERVAL:P3D
CALSCALE:GREGORIAN
BEGIN:VEVENT
DTSTART:20250429T210000Z
DTEND:20250430T000000Z
X-MICROSOFT-CDO-ALLDAYEVENT:FALSE
SUMMARY:Community Expo
DESCRIPTION:Community Expo-\n\nRegister now to save a space then join us for a business-to-business networking event open to the public. Get your name out there\, bring swag\, and get to know the community. Are you hiring? Let us know so we can highlight you and folks can apply on the spot.
X-ALT-DESC;FMTTYPE=text/html:Community Expo-<br />\nRegister now to save a space then join us for a business-to-business networking event open to the public. Get your name out there\, bring swag\, and get to know the community. Are you hiring? Let us know so we can highlight you and folks can apply on the spot.
LOCATION:BWHS 713 N Miller Dr Sunbury
UID:e.295.7000
SEQUENCE:3
DTSTAMP:20260420T014506Z
URL:https://business.sunburybigwalnutchamber.com/events/details/community-expo-7000
END:VEVENT

END:VCALENDAR
