BEGIN:VCALENDAR
VERSION:2.0
PRODID:-//ChamberMaster//Event Calendar 2.0//EN
METHOD:PUBLISH
X-PUBLISHED-TTL:P3D
REFRESH-INTERVAL:P3D
CALSCALE:GREGORIAN
BEGIN:VEVENT
DTSTART:20230427T210000Z
DTEND:20230428T000000Z
X-MICROSOFT-CDO-ALLDAYEVENT:FALSE
SUMMARY:Community Expo\, April 27 - Sunbury BW Area Chamber Event
DESCRIPTION:Community Expo and Hiring event !\n\n\n\nRegister for a table at the Expo and spend three hours networking with other businesses and interacting with local residents from the Sunbury/Big Walnut Area!\n\n\n\nInform them about your company or organization\, tell people about your club\, group or outreach program. Bring along some job applications and conduct live interviews!\n\n\n\nYou will be responsible for providing your table-top display.\n\nNOTE:  If you have a need to bring an additional small table\, chair or other furniture\, please note that it must have "rubber" on the legs due to the school requirements to protect their special flooring.\n\n\n\nChanges for 2023 -\n\nIn addition\, due to the new school's requirements\, you will not be seeing the same setup as in prior years\, i.e.\, no banners\, balloons or anything that would hang on the walls.  We are using the schools new cafeteria style tables with attached chairs in the main room.  In the secondary room there will be an assortment of tables and chairs for use.  Every room/area in the new school is air conditioned\, so no worries of being warm/hot or needing fans\, as in the past.  If you have questions or concerns\, feel free to contact the Sunbury Chamber of Commerce at 740-965-2860.  Thank you!\n\n\n\nWhen you register\, please indicate in the comment section if you will be "hiring".\n\n\n\nYou can arrive at the school at 4:00pm for setup and check-in.\n\n\n\nParticipant Fee Structure - Table registration\n\nMember Business fee- table registration - $100\n\nNon-member Business fee- table registration - $150\n\nMember Non-profit fee- table registration - $50\n\nNon-member Non-profit fee- table registration - $75\n\n--------------------------------------------------------------------------------------------\n\nNote for Expo Extra: once you register and pay for your table spot you will go back in and do another registration to secure your Expo Expo spot\, if you choose to be frontline.\n\n\n\n**** Expo Extra Prime Spots  ( 7 spots available) ***  Fee: $150\n\nExpo Extra is:  most visible-up front of room-floor placement location \n\n\n\nSPACE IS LIMITED\, WE ARE REQUESTING EARLY REGISTRATION.  Thank you!\n\n\n\nGeneral admission for the public absolutely FREE!\n\nIn addition\, DJ Meeko will be our MC for the evening.\n\n\n\nFood concession stand will be open for this event.  It will be run by the Athletic Boosters.  They have seating in the hall across from the concession stand.  Please support and enjoy!\n\n\n\nEnjoy an evening out in the community while you market your company and generate business leads!\n\n\n\nSee you at the Expo!
X-ALT-DESC;FMTTYPE=text/html:<strong><span style="background:white\;"><span style="color:#333333\;"><span style="font-family:arial\,sans-serif\;"><span style="font-size:15.0pt\;">Community Expo and Hiring event !</span></span></span></span></strong><br style="font-variant-ligatures:normal\;font-variant-caps:normal\;orphans:2\;text-align:start\;widows:2\;-webkit-text-stroke-width:0px\;text-decoration-thickness:initial\;text-decoration-style:initial\;word-spacing:0px\;" />\n<br style="font-variant-ligatures:normal\;font-variant-caps:normal\;orphans:2\;text-align:start\;widows:2\;-webkit-text-stroke-width:0px\;text-decoration-thickness:initial\;text-decoration-style:initial\;word-spacing:0px\;" />\n<strong><span style="background:white\;"><span style="color:#333333\;"><span style="font-family:arial\,sans-serif\;"><span style="font-size:13.5pt\;"><span style="font-variant-ligatures:normal\;font-variant-caps:normal\;orphans:2\;text-align:start\;widows:2\;-webkit-text-stroke-width:0px\;text-decoration-thickness:initial\;text-decoration-style:initial\;word-spacing:0px\;">Register for a table at the Expo and spend three hours networking with other businesses and interacting with local residents from the Sunbury/Big Walnut Area!</span></span></span></span></span></strong><br />\n<br />\n<strong><span style="background:white\;"><span style="color:mediumblue\;"><span style="font-family:arial\,sans-serif\;"><span style="font-size:13.5pt\;">Inform them about your company or organization\, tell people about your club\, group or outreach program. Bring along some job applications and conduct live interviews!</span></span></span></span></strong><br />\n<br />\n<strong><span style="background:white\;"><span style="color:#333333\;"><span style="font-family:arial\,sans-serif\;"><span style="font-size:15.0pt\;">You will be responsible for providing your table-top display</span></span></span></span></strong><em><strong><span style="background:white\;"><span style="color:#333333\;"><span style="font-family:arial\,sans-serif\;"><span style="font-size:15.0pt\;">.</span></span></span></span></strong></em><br />\n<em><strong><u><span style="background:white\;"><span style="color:#333333\;"><span style="font-family:arial\,sans-serif\;"><span style="font-size:13.5pt\;">NOTE:</span></span></span></span></u></strong></em>&nbsp\;&nbsp\;<em><strong><span style="background:white\;"><span style="color:#333333\;"><span style="font-family:calibri\,sans-serif\;"><span style="font-size:13.5pt\;">If you have a need to bring an additional small table\, chair or other furniture\, please note that it must have <u>&quot\;rubber&quot\;</u> on the legs due to the school requirements to protect their&nbsp\;special flooring.</span></span></span></span></strong></em><br style="font-variant-ligatures:normal\;font-variant-caps:normal\;orphans:2\;text-align:start\;widows:2\;-webkit-text-stroke-width:0px\;text-decoration-thickness:initial\;text-decoration-style:initial\;word-spacing:0px\;" />\n<br style="font-variant-ligatures:normal\;font-variant-caps:normal\;orphans:2\;text-align:start\;widows:2\;-webkit-text-stroke-width:0px\;text-decoration-thickness:initial\;text-decoration-style:initial\;word-spacing:0px\;" />\n<strong><u><span style="background:white\;"><span style="color:#333333\;"><span style="font-family:arial\,sans-serif\;"><span style="font-size:12.0pt\;"><span style="font-variant-ligatures:normal\;font-variant-caps:normal\;orphans:2\;text-align:start\;widows:2\;-webkit-text-stroke-width:0px\;text-decoration-thickness:initial\;text-decoration-style:initial\;word-spacing:0px\;">Changes for 2023 -</span></span></span></span></span></u></strong><br style="font-variant-ligatures:normal\;font-variant-caps:normal\;orphans:2\;text-align:start\;widows:2\;-webkit-text-stroke-width:0px\;text-decoration-thickness:initial\;text-decoration-style:initial\;word-spacing:0px\;" />\n<span style="color:#333333\;"><span style="font-family:arial\,sans-serif\;"><span style="font-size:12.0pt\;"><span style="background:white\;"><span style="font-variant-ligatures:normal\;font-variant-caps:normal\;orphans:2\;text-align:start\;widows:2\;-webkit-text-stroke-width:0px\;text-decoration-thickness:initial\;text-decoration-style:initial\;word-spacing:0px\;">In addition\, due to the new school&#39\;s requirements\, you will not be seeing the same setup as in prior years\, i.e.\, no banners\, balloons or anything that would hang on the walls.&nbsp\; We are&nbsp\;using&nbsp\;the schools new cafeteria style tables with attached chairs in the main room.&nbsp\; In the secondary room there&nbsp\;will be an assortment of tables and chairs for use.&nbsp\; Every room/area in the new school is air conditioned\, so no worries of being warm/hot or needing fans\, as in the past.&nbsp\;&nbsp\;If you have questions or concerns\, feel free to contact the Sunbury Chamber of Commerce at 740-965-2860.&nbsp\; Thank&nbsp\;you!<br />\n<br />\n<strong><span style="font-family:arial\,sans-serif\;">When you register\, please indicate in the comment section if you will be&nbsp\;<u>&quot\;hiring&quot\;.</u></span></strong></span></span><br style="font-variant-ligatures:normal\;font-variant-caps:normal\;orphans:2\;text-align:start\;widows:2\;-webkit-text-stroke-width:0px\;text-decoration-thickness:initial\;text-decoration-style:initial\;word-spacing:0px\;" />\n<br style="font-variant-ligatures:normal\;font-variant-caps:normal\;orphans:2\;text-align:start\;widows:2\;-webkit-text-stroke-width:0px\;text-decoration-thickness:initial\;text-decoration-style:initial\;word-spacing:0px\;" />\n<span style="background:white\;"><span style="font-variant-ligatures:normal\;font-variant-caps:normal\;orphans:2\;text-align:start\;widows:2\;-webkit-text-stroke-width:0px\;text-decoration-thickness:initial\;text-decoration-style:initial\;word-spacing:0px\;">You can arrive at the school at 4:00pm for setup and check-in.</span></span></span></span></span><br style="font-variant-ligatures:normal\;font-variant-caps:normal\;orphans:2\;text-align:start\;widows:2\;-webkit-text-stroke-width:0px\;text-decoration-thickness:initial\;text-decoration-style:initial\;word-spacing:0px\;" />\n<br style="font-variant-ligatures:normal\;font-variant-caps:normal\;orphans:2\;text-align:start\;widows:2\;-webkit-text-stroke-width:0px\;text-decoration-thickness:initial\;text-decoration-style:initial\;word-spacing:0px\;" />\n<strong><u style="font-variant-ligatures:normal\;font-variant-caps:normal\;orphans:2\;text-align:start\;widows:2\;-webkit-text-stroke-width:0px\;word-spacing:0px\;"><span style="background:white\;"><span style="color:#333333\;"><span style="font-family:arial\,sans-serif\;"><span style="font-size:12.0pt\;">Participant Fee Structure - Table registration</span></span></span></span></u></strong><br />\n<strong><span style="background:white\;"><span style="color:mediumblue\;"><span style="font-family:arial\,sans-serif\;"><span style="font-size:12.0pt\;"><span style="font-variant-ligatures:normal\;font-variant-caps:normal\;orphans:2\;text-align:start\;widows:2\;-webkit-text-stroke-width:0px\;text-decoration-thickness:initial\;text-decoration-style:initial\;word-spacing:0px\;">Member Business fee- table registration&nbsp\;- $100</span></span></span></span></span></strong><br />\n<strong><span style="background:white\;"><span style="color:mediumblue\;"><span style="font-family:arial\,sans-serif\;"><span style="font-size:12.0pt\;">Non-member Business fee- table registration - $150</span></span></span></span></strong><br />\n<strong><span style="background:white\;"><span style="color:mediumblue\;"><span style="font-family:arial\,sans-serif\;"><span style="font-size:12.0pt\;">Member Non-profit fee- table registration - $50</span></span></span></span></strong><br />\n<strong><span style="background:white\;"><span style="color:mediumblue\;"><span style="font-family:arial\,sans-serif\;"><span style="font-size:12.0pt\;"><strong><span style="font-family:arial\,sans-serif\;">Non-member Non-profit fee- table registration - $75</span></strong></span></span></span></span></strong><br />\n<strong><span style="background:white\;"><span style="color:mediumblue\;"><span style="font-family:arial\,sans-serif\;"><span style="font-size:12.0pt\;">--------------------------------------------------------------------------------------------</span></span></span></span></strong><br />\n<strong><u><span style="background:white\;"><span style="color:red\;"><span style="font-family:arial\,sans-serif\;"><span style="font-size:12.0pt\;">Note for Expo Extra:</span></span></span></span></u></strong><strong><span style="background:white\;"><span style="color:red\;"><span style="font-family:arial\,sans-serif\;"><span style="font-size:12.0pt\;"> once you register and pay for your table spot you will go back in and do another registration to secure your Expo Expo spot\, if you choose to be frontline.</span></span></span></span></strong><br />\n<br />\n<strong><u><span style="background:white\;"><span style="color:red\;"><span style="font-family:calibri\,sans-serif\;"><span style="font-size:14.0pt\;">**** Expo Extra Prime Spots &nbsp\;( 7 spots available) ***&nbsp\; Fee: </span></span></span></span></u></strong><strong><u><span style="background:white\;"><span style="color:red\;"><span style="font-family:calibri\,sans-serif\;"><span style="font-size:18.0pt\;">$150</span></span></span></span></u></strong><br />\n<strong><u><span style="background:white\;"><span style="color:red\;"><span style="font-family:calibri\,sans-serif\;"><span style="font-size:14.0pt\;">Expo Extra is: &nbsp\;most visible-up front of room-floor placement location </span></span></span></span></u></strong><br />\n<br style="font-variant-ligatures:normal\;font-variant-caps:normal\;orphans:2\;text-align:start\;widows:2\;-webkit-text-stroke-width:0px\;text-decoration-thickness:initial\;text-decoration-style:initial\;word-spacing:0px\;" />\n<strong><em><u><span style="background:white\;"><span style="color:mediumblue\;"><span style="font-family:arial\,sans-serif\;"><span style="font-size:12.0pt\;"><span style="font-variant-ligatures:normal\;font-variant-caps:normal\;orphans:2\;text-align:start\;widows:2\;-webkit-text-stroke-width:0px\;text-decoration-thickness:initial\;text-decoration-style:initial\;word-spacing:0px\;">SPACE IS LIMITED\, WE ARE REQUESTING EARLY REGISTRATION.</span></span></span></span></span></u></em></strong><strong><em><span style="background:white\;"><span style="color:mediumblue\;"><span style="font-family:arial\,sans-serif\;"><span style="font-size:12.0pt\;">&nbsp\; Thank you!</span></span></span></span></em></strong><br />\n<br />\n<span style="background:white\;"><span style="color:#333333\;"><span style="font-family:arial\,sans-serif\;"><span style="font-size:12.0pt\;"><strong><span style="font-family:arial\,sans-serif\;">General admission for the public absolutely FREE!</span></strong><br />\n<strong><strong><span style="font-family:arial\,sans-serif\;">In addition\, DJ Meeko will be our MC for the evening.</span></strong></strong></span></span></span></span><br />\n<br />\n<strong><span style="background:white\;"><span style="color:#333333\;"><span style="font-family:arial black\,sans-serif\;"><span style="font-size:12.0pt\;">Food concession stand will be open for this event.&nbsp\; It will be run by the Athletic Boosters.&nbsp\; They have seating in the hall across from the concession stand.&nbsp\; Please support and enjoy!</span></span></span></span></strong><br />\n<br />\n<strong><em><span style="background:white\;"><span style="color:mediumblue\;"><span style="font-family:arial black\,sans-serif\;"><span style="font-size:12.0pt\;">Enjoy an evening out in the community while you market your company and generate business leads!</span></span></span></span></em></strong><br />\n<br />\n<strong><span style="background:white\;"><span style="color:#333333\;"><span style="font-family:arial black\,sans-serif\;"><span style="font-size:12.0pt\;">See you at the Expo!</span></span></span></span></strong>
LOCATION:Big Walnut High School 713 N. Miller Drive Sunbury\, Ohio 43074
UID:e.295.6699
SEQUENCE:3
DTSTAMP:20260420T105846Z
URL:https://business.sunburybigwalnutchamber.com/events/details/community-expo-april-27-sunbury-bw-area-chamber-event-6699
END:VEVENT

END:VCALENDAR
