BEGIN:VCALENDAR
VERSION:2.0
PRODID:-//ChamberMaster//Event Calendar 2.0//EN
METHOD:PUBLISH
X-PUBLISHED-TTL:P3D
REFRESH-INTERVAL:P3D
CALSCALE:GREGORIAN
BEGIN:VEVENT
DTSTART:20250805T230000Z
DTEND:20250806T000000Z
X-MICROSOFT-CDO-ALLDAYEVENT:FALSE
SUMMARY:Community Library Expansion Forum
DESCRIPTION:Big Walnut residents\, we invite you to attend our presentation of the proposed addition to the the Community Library. The Community Library is hoping to expand the current facility in response to the continued growth in the Big Walnut area. At this forum\, we will present the library's addition proposal and discuss the bond levy which will be on the November 4 ballot.
X-ALT-DESC;FMTTYPE=text/html:Big Walnut residents\, we invite you to attend our presentation of the proposed addition to the the Community Library. The Community Library is hoping to expand the current facility in response to the continued growth in the Big Walnut area. At this forum\, we will present the library&#39\;s addition proposal and discuss the bond levy which will be on the November 4 ballot.
LOCATION:44 Burrer Drive\, Sunbury\, OH 43074
UID:e.295.7082
SEQUENCE:3
DTSTAMP:20260420T103635Z
URL:https://business.sunburybigwalnutchamber.com/events/details/community-library-expansion-forum-7082
END:VEVENT

END:VCALENDAR
