BEGIN:VCALENDAR
VERSION:2.0
PRODID:-//ChamberMaster//Event Calendar 2.0//EN
METHOD:PUBLISH
X-PUBLISHED-TTL:P3D
REFRESH-INTERVAL:P3D
CALSCALE:GREGORIAN
BEGIN:VEVENT
DTSTART:20230708T150000Z
DTEND:20230708T180000Z
X-MICROSOFT-CDO-ALLDAYEVENT:FALSE
SUMMARY:Community Senior Fest
DESCRIPTION:Community Senior Fest is a connection opportunity where seniors and their families can come learn about resources and support services available serving the Sunbury area. We know it can be difficult to know and be aware of all the resources that may be out there to meet daily needs. This free event brings seniors together with a variety of organizations that provide programs and services. Come learn\, meet new people\, and enjoy music\, food\, and refreshments!\n\n*Eligible seniors can also sign up to receive a monthly food box (Senior Box) provided by Sunbury UMC in conjunction with Mid-Ohio Food Collective (an equal opportunity provider).
X-ALT-DESC;FMTTYPE=text/html:Community Senior Fest is a connection opportunity where seniors and their families can come learn about resources and support services available serving the Sunbury area. We know it can be difficult to know and be aware of all the resources that may be out there to meet daily needs. This free event brings seniors together with a variety of organizations that provide programs and services. Come learn\, meet new people\, and enjoy music\, food\, and refreshments!<br />\n*Eligible seniors can also sign up to receive a monthly food box (<em>Senior Box</em>) provided by Sunbury UMC in conjunction with Mid-Ohio Food Collective (an equal opportunity provider).&nbsp\;
LOCATION:Sunbury United Methodist Church 100 W Cherry St. Sunbury
UID:e.295.6734
SEQUENCE:3
DTSTAMP:20260420T055449Z
URL:https://business.sunburybigwalnutchamber.com/events/details/community-senior-fest-6734
END:VEVENT

END:VCALENDAR
