BEGIN:VCALENDAR
VERSION:2.0
PRODID:-//ChamberMaster//Event Calendar 2.0//EN
METHOD:PUBLISH
X-PUBLISHED-TTL:P3D
REFRESH-INTERVAL:P3D
CALSCALE:GREGORIAN
BEGIN:VEVENT
DTSTART:20250514T200000Z
DTEND:20250514T220000Z
X-MICROSOFT-CDO-ALLDAYEVENT:FALSE
SUMMARY:Cornerstone of Hope Ribbon Cutting & Open House
DESCRIPTION:Join us for a celebratory evening at the Cornerstone of Hope Ribbon Cutting Ceremony followed by an open house! This exciting event marks a new chapter for our organization\, and we want you to be part of it.\n\n\n\nEnjoy delicious food and refreshing beverages as you tour our facility\, meet our team\, and hear firsthand about the impactful work we do in the community. We will kick off the event with an official ribbon cutting ceremony\, followed by an open house where you'll have the chance to explore our services\, learn about our mission\, and discover opportunities to get involved. \n\n\n\nWhether you're interested in volunteering\, partnering with us\, or utilizing our services\, this event is the perfect way to connect with others who are passionate about making a difference. \n\n\n\nWe look forward to seeing you there!
X-ALT-DESC;FMTTYPE=text/html:Join us for a celebratory evening at the Cornerstone of Hope Ribbon Cutting Ceremony followed by an open house! This exciting event marks a new chapter for our organization\, and we want you to be part of it.<br />\n<br />\nEnjoy delicious food and refreshing beverages as you tour our facility\, meet our team\, and hear firsthand about the impactful work we do in the community. We will kick off the event with an official ribbon cutting ceremony\, followed by an open house where you&rsquo\;ll have the chance to explore our services\, learn about our mission\, and discover opportunities to get involved.&nbsp\;<br />\n<br />\nWhether you&rsquo\;re interested in volunteering\, partnering with us\, or utilizing our services\, this event is the perfect way to connect with others who are passionate about making a difference.&nbsp\;<br />\n<br />\nWe look forward to seeing you there!
LOCATION:253 N. State Street\, Suite 200 Westerville\, OH 43081 Free parking surrounding the building.
UID:e.295.7020
SEQUENCE:3
DTSTAMP:20260420T034027Z
URL:https://business.sunburybigwalnutchamber.com/events/details/cornerstone-of-hope-ribbon-cutting-open-house-7020
END:VEVENT

END:VCALENDAR
