BEGIN:VCALENDAR
VERSION:2.0
PRODID:-//ChamberMaster//Event Calendar 2.0//EN
METHOD:PUBLISH
X-PUBLISHED-TTL:P3D
REFRESH-INTERVAL:P3D
CALSCALE:GREGORIAN
BEGIN:VEVENT
DTSTART:20250221T000000Z
DTEND:20250221T020000Z
X-MICROSOFT-CDO-ALLDAYEVENT:FALSE
SUMMARY:Delaware County Historical Society presents Agriculture\, Yesterday\, Today\, and Tomorrow
DESCRIPTION:The Delaware County Historical Society will present a moderated panel discussion on the history and evolution of farming in Delaware County. This event will be held on February 20th at 7pm at the Barn at Stratford\, 2690 Stratford Road\, Delaware. Registration is on EventBrite   in person program - https://www.eventbrite.com/e/1226519295229?aff=oddtdtcreator or live stream version   https://www.eventbrite.com/e/1229381445999?aff=oddtdtcreator
X-ALT-DESC;FMTTYPE=text/html:The Delaware County Historical Society will present a moderated panel discussion on the history and evolution of farming in Delaware County. This event will be held on February 20th at 7pm at the Barn at Stratford\, 2690 Stratford Road\, Delaware. Registration is on EventBrite &ndash\; in person program - https://www.eventbrite.com/e/1226519295229?aff=oddtdtcreator or live stream version &ndash\; https://www.eventbrite.com/e/1229381445999?aff=oddtdtcreator
LOCATION:The Barn at Stratford 2690 Stratford Rd. Delaware\, Ohio. 43015
UID:e.295.7005
SEQUENCE:3
DTSTAMP:20260420T001907Z
URL:https://business.sunburybigwalnutchamber.com/events/details/delaware-county-historical-society-presents-agriculture-yesterday-today-and-tomorrow-02-20-2025-7005
END:VEVENT

END:VCALENDAR
