BEGIN:VCALENDAR
VERSION:2.0
PRODID:-//ChamberMaster//Event Calendar 2.0//EN
METHOD:PUBLISH
X-PUBLISHED-TTL:P3D
REFRESH-INTERVAL:P3D
CALSCALE:GREGORIAN
BEGIN:VEVENT
DTSTART:20260506T223000Z
DTEND:20260506T233500Z
X-MICROSOFT-CDO-ALLDAYEVENT:FALSE
SUMMARY:Evenings with Brent Carson Whatever Happened to
DESCRIPTION:Join Brent Carson for an entertaining evening when the subject will be places in Delaware County that no longer exist. This will be a walk down memory lane for Brent\, and audience members are encouraged to participate. Brent Carson is a true icon and go to person for Delaware and Delaware Country history.
X-ALT-DESC;FMTTYPE=text/html:Join Brent Carson for an entertaining evening when the subject will be places in Delaware County that no longer exist. This will be a walk down memory lane for Brent\, and audience members are encouraged to participate. Brent Carson is a true icon and go to person for Delaware and Delaware Country history.
LOCATION:Carriage Room of The Barn at Stratford 2690 Stratford Road Delaware\, OH 43015
UID:e.295.7172
SEQUENCE:3
DTSTAMP:20260421T165748Z
URL:https://business.sunburybigwalnutchamber.com/events/details/evenings-with-brent-carson-whatever-happened-to-7172
END:VEVENT

END:VCALENDAR
