BEGIN:VCALENDAR
VERSION:2.0
PRODID:-//ChamberMaster//Event Calendar 2.0//EN
METHOD:PUBLISH
X-PUBLISHED-TTL:P3D
REFRESH-INTERVAL:P3D
CALSCALE:GREGORIAN
BEGIN:VEVENT
DTSTART:20241019T140000Z
DTEND:20241019T180000Z
X-MICROSOFT-CDO-ALLDAYEVENT:FALSE
SUMMARY:Fall Fest-Bright City Church
DESCRIPTION:Bright City Church is hosting a Fall Fest!\n\nInflatables\, food & drinks\, games\, crafts\, live DJ\, and more!
X-ALT-DESC;FMTTYPE=text/html:Bright City Church is hosting a Fall Fest!<br />\nInflatables\, food &amp\; drinks\, games\, crafts\, live DJ\, and more!
LOCATION:70 N Walnut St. Galena
UID:e.295.6972
SEQUENCE:3
DTSTAMP:20260419T171345Z
URL:https://business.sunburybigwalnutchamber.com/events/details/fall-fest-bright-city-church-6972
END:VEVENT

END:VCALENDAR
