BEGIN:VCALENDAR
VERSION:2.0
PRODID:-//ChamberMaster//Event Calendar 2.0//EN
METHOD:PUBLISH
X-PUBLISHED-TTL:P3D
REFRESH-INTERVAL:P3D
CALSCALE:GREGORIAN
BEGIN:VEVENT
DTSTART:20241020T183000Z
DTEND:20241020T203000Z
X-MICROSOFT-CDO-ALLDAYEVENT:FALSE
SUMMARY:Fall Festival at The Bridge Church
DESCRIPTION:Fall Festival at The Bridge Church\n\nPlay Games & Win Prizes or Candy!\n\nKids 1-8th grade- wear your costumes
X-ALT-DESC;FMTTYPE=text/html:Fall Festival at The Bridge Church<br />\nPlay Games &amp\; Win Prizes or Candy!<br />\nKids 1-8th grade- wear your costumes
LOCATION:12259 N Old 3C Rd Sunbury
UID:e.295.6975
SEQUENCE:3
DTSTAMP:20260419T155204Z
URL:https://business.sunburybigwalnutchamber.com/events/details/fall-festival-at-the-bridge-church-6975
END:VEVENT

END:VCALENDAR
